BEGIN:VCALENDAR
VERSION:2.0
PRODID:-//wp-events-plugin.com//5.99912//EN
TZID:Europe/Berlin
X-WR-TIMEZONE:Europe/Berlin
BEGIN:VEVENT
UID:60064@punkt-linden.de
DTSTART;TZID=Europe/Berlin:20250723T193000
DTEND;TZID=Europe/Berlin:20250723T193000
DTSTAMP:20250715T160004Z
URL:https://punkt-linden.de/termine/sing-doch-selberheinz-chorioschor-kara
 oke-party/
SUMMARY:Sing doch selber! HEINZ CHORIOS - Chor Karaoke-Party
DESCRIPTION:Sing doch selber! mit HEINZ CHORIOS - gemeinsam singen mit Hein
 z und HerzDie Chor-Karaoke-Party im Laden Eures Vertrauens. Was passiert\,
  wenn ALLE ohne Mikro Karaoke ohne Leadstimme singen Es entsteht ein Chor.
  Einfach mitsingen - Ihr bestimmt das Programm!Lust auf gute Laune und spo
 ntane Chorfreundschaften Ab in den Keller!Tickets:  Hier Tickets bestellen
CATEGORIES:Sport, Spiel
LOCATION:Béi Chéz Heinz\, Liepmannstraße 7b\, Hannover\, 30453\, Deutsch
 land
GEO:52.37195;9.69636
X-APPLE-STRUCTURED-LOCATION;VALUE=URI;X-ADDRESS=Liepmannstraße 7b\, Hannov
 er\, 30453\, Deutschland;X-APPLE-RADIUS=100;X-TITLE=Béi Chéz Heinz:geo:5
 2.37195,9.69636
END:VEVENT
BEGIN:VTIMEZONE
TZID:Europe/Berlin
X-LIC-LOCATION:Europe/Berlin
BEGIN:DAYLIGHT
DTSTART:20250330T030000
TZOFFSETFROM:+0100
TZOFFSETTO:+0200
TZNAME:CEST
END:DAYLIGHT
END:VTIMEZONE
END:VCALENDAR