BEGIN:VCALENDAR
VERSION:2.0
PRODID:-//wp-events-plugin.com//5.99912//EN
TZID:Europe/Berlin
X-WR-TIMEZONE:Europe/Berlin
BEGIN:VEVENT
UID:61203@punkt-linden.de
DTSTART;TZID=Europe/Berlin:20251128T150000
DTEND;TZID=Europe/Berlin:20251128T235900
DTSTAMP:20251111T100019Z
URL:https://punkt-linden.de/termine/zwischen-anpassung-und-zivilcourage-re
 chtes-gedankengut-erkennen-und-haltung-zeigen/
SUMMARY:Zwischen Anpassung und Zivilcourage Rechtes Gedankengut erkennen un
 d Haltung zeigen
DESCRIPTION:Zu dem Seminar am 28./29. November laden die Katholische Akadem
 ie des Bistums Hildesheim in Hannover\, das ZeitZentrum für Zivilcourage 
 und die Recherche- und Informationsstelle Antisemitismus (RIAS) Niedersach
 sen ein.\nDer erste Seminartag findet in der Gedenkstätte Ahlem statt\, e
 inem Ort der Reflexion über die Verbrechen des Nationalsozialismus\, der 
 selbst immer wieder Ziel von Angriffen ist. Hier erhalten die Teilnehmende
 n auch einen Einblick in die Dauerausstellung und die Vermittlungsmethoden
  vor Ort.\n\nAm zweiten Tag widmen wir uns im ZeitZentrum Zivilcourage unt
 erschiedlichen Erscheinungsformen von Antisemitismus und Verschwörungserz
 ählungen und entwickeln Handlungsoptionen für ein zivilcouragiertes Zusa
 mmenleben.\n\nGedenkstätte Ahlem und ZeitZentrum Zivilcourage\, Theodor-L
 essing-Platz 1A\, 30159 Hannover\n\nFreitag 28. November 2025 von 15 - 19:
 30 Uhr\nSamstag 29. November 2025 von 10 – 14:30 Uhr
ATTACH;FMTTYPE=image/jpeg:https://punkt-linden.de/wp-content/uploads/2025/
 11/gedenkstaette.jpg
CATEGORIES:Politik,Vortrag, Führung, Workshop
LOCATION:Gedenkstätte Ahlem\, Heisterbergallee 10\, Hannover\, Niedersachs
 en\, 30453\, Deutschland
GEO:52.377592;9.672355
X-APPLE-STRUCTURED-LOCATION;VALUE=URI;X-ADDRESS=Heisterbergallee 10\, Hanno
 ver\, Niedersachsen\, 30453\, Deutschland;X-APPLE-RADIUS=100;X-TITLE=Geden
 kstätte Ahlem:geo:52.377592,9.672355
END:VEVENT
BEGIN:VTIMEZONE
TZID:Europe/Berlin
X-LIC-LOCATION:Europe/Berlin
BEGIN:STANDARD
DTSTART:20251026T020000
TZOFFSETFROM:+0200
TZOFFSETTO:+0100
TZNAME:CET
END:STANDARD
END:VTIMEZONE
END:VCALENDAR