BEGIN:VCALENDAR
VERSION:2.0
PRODID:-//wp-events-plugin.com//5.99912//EN
TZID:Europe/Berlin
X-WR-TIMEZONE:Europe/Berlin
BEGIN:VEVENT
UID:60475@punkt-linden.de
DTSTART;TZID=Europe/Berlin:20251029T194500
DTEND;TZID=Europe/Berlin:20251029T235900
DTSTAMP:20250827T160631Z
URL:https://punkt-linden.de/termine/zur-ruhe-kommen-mit-achtsamkeitstraini
 ng-2/
SUMMARY:Zur Ruhe kommen mit Achtsamkeitstraining
DESCRIPTION:Entwickle mehr Gelassenheit\, stärke deine Konzentration und f
 inde zu mehr Klarheit.\nmittwochs 19:45 - 20:45 Uhr\n\nKurs II: 29.10.-10.
 12.25 | 7 Termine | Gebühr: 49 €\n\nVeranstaltungsort: GS Kastanienhof 
 / Raum D.009
CATEGORIES:Sport, Spiel
LOCATION:Kulturtreff Kastanienhof\, Harenberger Straße 29\, Hannover\, 304
 53\, Deutschland
GEO:52.375573;9.686165
X-APPLE-STRUCTURED-LOCATION;VALUE=URI;X-ADDRESS=Harenberger Straße 29\, Ha
 nnover\, 30453\, Deutschland;X-APPLE-RADIUS=100;X-TITLE=Kulturtreff Kastan
 ienhof:geo:52.375573,9.686165
END:VEVENT
BEGIN:VTIMEZONE
TZID:Europe/Berlin
X-LIC-LOCATION:Europe/Berlin
BEGIN:STANDARD
DTSTART:20251026T020000
TZOFFSETFROM:+0200
TZOFFSETTO:+0100
TZNAME:CET
END:STANDARD
END:VTIMEZONE
END:VCALENDAR