BEGIN:VCALENDAR
VERSION:2.0
PRODID:-//wp-events-plugin.com//5.99912//EN
TZID:Europe/Berlin
X-WR-TIMEZONE:Europe/Berlin
BEGIN:VEVENT
UID:61184@punkt-linden.de
DTSTART;TZID=Europe/Berlin:20251119T200000
DTEND;TZID=Europe/Berlin:20251119T200000
DTSTAMP:20251109T170005Z
URL:https://punkt-linden.de/termine/zs-zs-hyperpop-berlin/
SUMMARY:Zsá Zsá (Hyperpop / Berlin)
DESCRIPTION:Crop-Top\, Skyline\, Nike Shox\, Nightlife – Wer schon mal Ba
 d Bunnies gehört hat\, weiß: Zsá Zsá lebt Pop nicht als Pose\, sondern
  als radikale Selbstentfaltung. Dabei ist sie alles aber kein austauschbar
 es Popsternchen. Wild\, laut\, zart und furchtlos zugleich ist die in Berl
 in lebende Künstlerin nicht nur mit „zehn Bad Bunnies auf nem Boot“ z
 u finden – sondern jetzt auch bald auf Thirst Trap Tour.Dass sie nicht i
 n eine Schublade gesteckt werden kann\, zieht sich durch ihr Leben. Aufgew
 achsen zwischen Berlin\, London und L.A.\, hat sie früh gelernt\, sich ni
 cht festzulegen. Also macht sie einfach alles: Schauspiel\, Content\, Musi
 k. Und am liebsten alles gleichzeitig.\nZsá Zsá ist längst kein Geheimt
 ipp mehr und katapultiert sich mit „Bad Bunnies“ direkt in den Top10 d
 er Spotify Charts und im November an 10 Terminen durch ganz Deutschland\, 
 Österreich und die Schweiz.\nTickets: AUSVERKAUFT Hier Tickets bestellen
CATEGORIES:Musik, Konzert
LOCATION:Béi Chéz Heinz\, Liepmannstraße 7b\, Hannover\, 30453\, Deutsch
 land
GEO:52.37195;9.69636
X-APPLE-STRUCTURED-LOCATION;VALUE=URI;X-ADDRESS=Liepmannstraße 7b\, Hannov
 er\, 30453\, Deutschland;X-APPLE-RADIUS=100;X-TITLE=Béi Chéz Heinz:geo:5
 2.37195,9.69636
END:VEVENT
BEGIN:VTIMEZONE
TZID:Europe/Berlin
X-LIC-LOCATION:Europe/Berlin
BEGIN:STANDARD
DTSTART:20251026T020000
TZOFFSETFROM:+0200
TZOFFSETTO:+0100
TZNAME:CET
END:STANDARD
END:VTIMEZONE
END:VCALENDAR