BEGIN:VCALENDAR
VERSION:2.0
PRODID:-//wp-events-plugin.com//5.99912//EN
TZID:Europe/Berlin
X-WR-TIMEZONE:Europe/Berlin
BEGIN:VEVENT
UID:60695@punkt-linden.de
DTSTART;TZID=Europe/Berlin:20251022T190000
DTEND;TZID=Europe/Berlin:20251022T235900
DTSTAMP:20250921T091306Z
URL:https://punkt-linden.de/termine/womansplained-feministische-lesebuehne
 -mit-antonia-josefa-lea-reich-und-ruby-s-zeugs/
SUMMARY:Womansplained-Feministische Lesebühne mit Antonia Josefa\, Lea Rei
 ch und Ruby S. Zeugs
DESCRIPTION:Lange genug haben wir zugehört\, jetzt reden wir. Wir zeigen E
 uch die Welt\, wie wir sie sehen. Einen Blick auf die Welt durch die Vulva
  quasi. Dabei sind wir manchmal wütend\, manchmal weise\, manchmal witzig
  und manchmal ist es nicht richtig\, was wir sagen. Aber darauf kam es bei
 m Mansplaining ja auch nie an. Ein Abendprogramm mit bekannten Stimmen aus
  der hannoverschen Literaturszene: Antonia Josefa\, Lea Reich und Ruby S. 
 Zeugs.\n\nEine Veranstaltung von “Macht Worte!” – der hannoversche P
 oetry Slam.
ATTACH;FMTTYPE=image/jpeg:https://punkt-linden.de/wp-content/uploads/2025/
 09/womansplained.jpg
CATEGORIES:Kleinkunst, Schauspiel
LOCATION:Faust - Warenannahme\, Zur Bettfedernfabrik 3\, Hannover\, Nieders
 achsen\, 30451\, Deutschland
GEO:52.376337;9.710986
X-APPLE-STRUCTURED-LOCATION;VALUE=URI;X-ADDRESS=Zur Bettfedernfabrik 3\, Ha
 nnover\, Niedersachsen\, 30451\, Deutschland;X-APPLE-RADIUS=100;X-TITLE=Fa
 ust - Warenannahme:geo:52.376337,9.710986
END:VEVENT
BEGIN:VTIMEZONE
TZID:Europe/Berlin
X-LIC-LOCATION:Europe/Berlin
BEGIN:DAYLIGHT
DTSTART:20250330T030000
TZOFFSETFROM:+0100
TZOFFSETTO:+0200
TZNAME:CEST
END:DAYLIGHT
END:VTIMEZONE
END:VCALENDAR