BEGIN:VCALENDAR
VERSION:2.0
PRODID:-//wp-events-plugin.com//5.99912//EN
TZID:Europe/Berlin
X-WR-TIMEZONE:Europe/Berlin
BEGIN:VEVENT
UID:61267@punkt-linden.de
DTSTART;TZID=Europe/Berlin:20251220T170000
DTEND;TZID=Europe/Berlin:20251220T235900
DTSTAMP:20251118T070038Z
URL:https://punkt-linden.de/termine/winter-special-3/
SUMMARY:Winter Special
DESCRIPTION:Warme Drinks und gute Musik von 17-22 Uhr
CATEGORIES:Essen, Trinken,Musik, Konzert
LOCATION:Kulturhafen e.V.\, Eichenbrink 5b\, Hannover\, 30453\, Deutschland
GEO:52.374393;9.687918
X-APPLE-STRUCTURED-LOCATION;VALUE=URI;X-ADDRESS=Eichenbrink 5b\, Hannover\,
  30453\, Deutschland;X-APPLE-RADIUS=100;X-TITLE=Kulturhafen e.V.:geo:52.37
 4393,9.687918
END:VEVENT
BEGIN:VTIMEZONE
TZID:Europe/Berlin
X-LIC-LOCATION:Europe/Berlin
BEGIN:STANDARD
DTSTART:20251026T020000
TZOFFSETFROM:+0200
TZOFFSETTO:+0100
TZNAME:CET
END:STANDARD
END:VTIMEZONE
END:VCALENDAR