BEGIN:VCALENDAR
VERSION:2.0
PRODID:-//wp-events-plugin.com//5.99912//EN
TZID:Europe/Berlin
X-WR-TIMEZONE:Europe/Berlin
BEGIN:VEVENT
UID:61341@punkt-linden.de
DTSTART;TZID=Europe/Berlin:20251211T190000
DTEND;TZID=Europe/Berlin:20251211T235900
DTSTAMP:20251127T211733Z
URL:https://punkt-linden.de/termine/weihnachts-suessigkeiten/
SUMMARY:Weihnachts-Süßigkeiten
DESCRIPTION:Alle Mitglieder der Zukunftswerkstatt und von ihmeKULT! sowie S
 ympathisant*innen sind herzlich eingeladen\, ihre Lieblings-Weihnachts-Sü
 ßigkeiten mitzubringen und in den Räumen von ihmeKULT! vorbeizuschauen. 
 Es gibt Feuerzangen-Bowle!
CATEGORIES:Engagement, Ehrenamt
LOCATION:ihmeKULT! e.V.\, Ihmeplatz 7E\, Hannover\, 30449\, Deutschland
GEO:52.371598;9.716444
X-APPLE-STRUCTURED-LOCATION;VALUE=URI;X-ADDRESS=Ihmeplatz 7E\, Hannover\, 3
 0449\, Deutschland;X-APPLE-RADIUS=100;X-TITLE=ihmeKULT! e.V.:geo:52.371598
 ,9.716444
END:VEVENT
BEGIN:VTIMEZONE
TZID:Europe/Berlin
X-LIC-LOCATION:Europe/Berlin
BEGIN:STANDARD
DTSTART:20251026T020000
TZOFFSETFROM:+0200
TZOFFSETTO:+0100
TZNAME:CET
END:STANDARD
END:VTIMEZONE
END:VCALENDAR