BEGIN:VCALENDAR
VERSION:2.0
PRODID:-//wp-events-plugin.com//5.99912//EN
TZID:Europe/Berlin
X-WR-TIMEZONE:Europe/Berlin
BEGIN:VEVENT
UID:61532@punkt-linden.de
DTSTART;TZID=Europe/Berlin:20251024T213000
DTEND;TZID=Europe/Berlin:20251024T235900
DTSTAMP:20251219T115924Z
URL:https://punkt-linden.de/termine/weihnachten-feiern-krippenspiel-christ
 mette-und-gottesdienst/
SUMMARY:Weihnachten feiern...  Krippenspiel\, Christmette und Gottesdienst
DESCRIPTION:Besonders gestaltete musikalische Einstimmung auf die Christnac
 ht.
CATEGORIES:Kirche, Religion
LOCATION:St. Godehard Kirche\, Posthornstraße 22\, Hannover\, 30440\, Deut
 schland
GEO:52.363538;9.715215
X-APPLE-STRUCTURED-LOCATION;VALUE=URI;X-ADDRESS=Posthornstraße 22\, Hannov
 er\, 30440\, Deutschland;X-APPLE-RADIUS=100;X-TITLE=St. Godehard Kirche:ge
 o:52.363538,9.715215
END:VEVENT
BEGIN:VTIMEZONE
TZID:Europe/Berlin
X-LIC-LOCATION:Europe/Berlin
BEGIN:DAYLIGHT
DTSTART:20250330T030000
TZOFFSETFROM:+0100
TZOFFSETTO:+0200
TZNAME:CEST
END:DAYLIGHT
END:VTIMEZONE
END:VCALENDAR