BEGIN:VCALENDAR
VERSION:2.0
PRODID:-//wp-events-plugin.com//5.99912//EN
TZID:Europe/Berlin
X-WR-TIMEZONE:Europe/Berlin
BEGIN:VEVENT
UID:60244@punkt-linden.de
DTSTART;TZID=Europe/Berlin:20250828T200000
DTEND;TZID=Europe/Berlin:20250828T235900
DTSTAMP:20250827T124459Z
URL:https://punkt-linden.de/termine/von-der-ordnung-der-welt-guenter-pohl-
 liest-in-der-lindener-buchhandlung/
SUMMARY:"Von der Ordnung der Welt" Günter Pohl liest in der Lindener Buchh
 andlung
DESCRIPTION:Der Autor Günter Pohl stellt seine Trilogie “Von der Ordnung
  der Welt” vor:\n\n“Der Mann mit den Müllsäcken” (2022)\, “Das M
 ädchen auf dem Ei” (2023) und “Der Mensch ist Entwicklung” (2024).\
 nLesend und diskutierend mit allen\, denen der Fortgang der Menschheit und
  des Planeten ein Anliegen ist\; die Ideen Myops und Noems in ihren Widers
 prüchen und Ratschlägen beleuchtend. Etwas heiter und etwas ernst – un
 d immer mit Blick auf das Werden des Ganzen: Das Sein.\n\nNoem und Myop\, 
 zwei muntere Herren mittleren Alters\, marschieren gutgelaunt durch die Ph
 ilosophiegeschichte vom antiken Griechenland bis zur Jetztzeit und debatti
 eren alles\, was ihnen an täglicher Politik und Ideen (und manchmal Leid
 en) zwischen Brecht und Precht wichtig erscheint.\n\nDer eine eher fragend
  oder wagemutig behauptend\, der andere rational und scheinbar wissend. Si
 e erkennen die Tücken der Dialektik\, die einerseits die Zusammenhänge
  betrachtet\, aber vor allem doch eine Wissenschaft der Entwicklung ist. S
 o sind ihnen ihr Favorit Denis Diderot\, Herausgeber der Enzyklopädie un
 d linker Kopf der französischen Aufklärung\, aber auch Hegel\, Engels 
 oder am Ende ihr eigener Erkenntnisprozess eine Hilfe bei der Ordnung der 
 Welt.\n\nEinlass: 19:30 Uhr\nBeginn: 20:00 Uhr\nEintritt frei | Hut geht r
 um
ATTACH;FMTTYPE=image/jpeg:https://punkt-linden.de/wp-content/uploads/2025/
 08/efbb1cb3-fe24-4ec4-aa4e-ba08b5169e57.jpg
CATEGORIES:Literatur, Lesung
LOCATION:Lindener Buchhandlung\, Limmerstrasse 43\, Hannover\, 30451\, Deut
 schland
GEO:52.373178;9.70782
X-APPLE-STRUCTURED-LOCATION;VALUE=URI;X-ADDRESS=Limmerstrasse 43\, Hannover
 \, 30451\, Deutschland;X-APPLE-RADIUS=100;X-TITLE=Lindener Buchhandlung:ge
 o:52.373178,9.70782
END:VEVENT
BEGIN:VTIMEZONE
TZID:Europe/Berlin
X-LIC-LOCATION:Europe/Berlin
BEGIN:DAYLIGHT
DTSTART:20250330T030000
TZOFFSETFROM:+0100
TZOFFSETTO:+0200
TZNAME:CEST
END:DAYLIGHT
END:VTIMEZONE
END:VCALENDAR