BEGIN:VCALENDAR
VERSION:2.0
PRODID:-//wp-events-plugin.com//5.99912//EN
TZID:Europe/Berlin
X-WR-TIMEZONE:Europe/Berlin
BEGIN:VEVENT
UID:62520@punkt-linden.de
DTSTART;TZID=Europe/Berlin:20260514T170000
DTEND;TZID=Europe/Berlin:20260514T170000
DTSTAMP:20260317T170004Z
URL:https://punkt-linden.de/termine/vex-synthwave-punk-dancemachinemalmoe-
 socke-punk-heidelberggaffa-ghandi-heavy-blues-rockleipzig-gavial-stonerdre
 sden/
SUMMARY:VEX (Synthwave/Punk/Dancemachine) - Malmö + Socke-(Punk) Heidelber
 g/ Gaffa Ghandi (Heavy Blues Rock) - Leipzig / Gavial (Stoner /Dresden)
DESCRIPTION:Tickets: 
CATEGORIES:Musik, Konzert
LOCATION:Béi Chéz Heinz\, Liepmannstraße 7b\, Hannover\, 30453\, Deutsch
 land
GEO:52.37195;9.69636
X-APPLE-STRUCTURED-LOCATION;VALUE=URI;X-ADDRESS=Liepmannstraße 7b\, Hannov
 er\, 30453\, Deutschland;X-APPLE-RADIUS=100;X-TITLE=Béi Chéz Heinz:geo:5
 2.37195,9.69636
END:VEVENT
BEGIN:VTIMEZONE
TZID:Europe/Berlin
X-LIC-LOCATION:Europe/Berlin
BEGIN:DAYLIGHT
DTSTART:20260329T030000
TZOFFSETFROM:+0100
TZOFFSETTO:+0200
TZNAME:CEST
END:DAYLIGHT
END:VTIMEZONE
END:VCALENDAR