BEGIN:VCALENDAR
VERSION:2.0
PRODID:-//wp-events-plugin.com//5.99912//EN
TZID:Europe/Berlin
X-WR-TIMEZONE:Europe/Berlin
BEGIN:VEVENT
UID:61284@punkt-linden.de
DTSTART;TZID=Europe/Berlin:20251129T180000
DTEND;TZID=Europe/Berlin:20251129T235900
DTSTAMP:20251119T133029Z
URL:https://punkt-linden.de/termine/vernissage-katharina-kuehne-reflection
 s-on-transition/
SUMMARY:Vernissage: Katharina Kühne | Reflections on Transition
DESCRIPTION:Der fortwährende Übergang von einem Zustand zum anderen treib
 t die Dynamik unserer Lebenserfahrungen an. Er sorgt dafür\, dass wir uns
  als Menschen in einem wiederkehrenden Zyklus der Veränderung begreifen u
 nd die Vergänglichkeit der Zeit empfinden. Die Energie der Veränderung b
 esitzt in ihrem Kern etwas Natürliches\, Organisches\, das sie uns als ei
 ne die Lebenserfahrung bestimmende Naturkraft offenbart.\n\nMit Reflection
 s on Transition manifestiert Katharina Kühne ihren ganz eigenen künstler
 ischen Kosmos\, der uns das Wesen des Übergangs in einer großen Fülle k
 ünstlerischer Techniken zum Vorschein bringt. Ihre Arbeiten reflektieren 
 die unterschiedlichen Texturen unserer sich ständig wandelnden Gefühlswe
 lten und machen Kunst als eine lebensbestimmende Kraft erfahrbar.\n\nKatha
 rina Kühne präsentiert mit ihrer Kunst ein eigenes Regelsystem\, das die
  Welt weniger abbildet als vielmehr in der eigenen Vorstellung fortsetzt u
 nd durch die eigene Gefühlswelt widerspiegelt. Die Fantasie ihrer Kunstr
 äume verhandelt insbesondere die durch Übergänge bedingte Fragilität d
 er uns umgebenden Welt und vermag es\, uns Schutzräume anzubieten.\n\n\nD
 ie Dynamik\, die sich aus den Gegensätzen ihrer kleinen\, doch schweren u
 nd geerdeten Plastiken\, ihrer großen\, doch leicht erscheinenden\, häng
 enden Skulpturen und ihrer großformatigen\, farbexpressiven Malereien erg
 ibt\, eröffnet einen umfassenden Kunstkosmos unterschiedlicher Aggregatzu
 stände und Gefühlslagen.\n\nDie direkte Verbindung zwischen Farbe als au
 sgedrückter Emotion und Raum als innerer Empfindung findet in Katharina K
 ühnes Arbeiten eine Symbiose. Im Angesicht des Wandels und des Übergangs
  bietet uns die Kunst so eine eigene\, schützende Naturkraft des Zusammen
 halts und der Hoffnung.\n\nLaufzeit: 29.11.2025 - 11.1.2026\nÖffnungszeit
 en: jeden Sonntag 13 - 17 Uhr\nund nach Vereinbarung
ATTACH;FMTTYPE=image/jpeg:https://punkt-linden.de/wp-content/uploads/2025/
 11/Katharina-Kuehne.png
CATEGORIES:Ausstellung
LOCATION:metavier – Galerie vom Anfang und Ende\, Minister-Stüve-Straße
  14\, Hannover\, 30449\, Deutschland
X-APPLE-STRUCTURED-LOCATION;VALUE=URI;X-ADDRESS=Minister-Stüve-Straße 14\
 , Hannover\, 30449\, Deutschland;X-APPLE-RADIUS=100;X-TITLE=metavier – G
 alerie vom Anfang und Ende:geo:0,0
END:VEVENT
BEGIN:VTIMEZONE
TZID:Europe/Berlin
X-LIC-LOCATION:Europe/Berlin
BEGIN:STANDARD
DTSTART:20251026T020000
TZOFFSETFROM:+0200
TZOFFSETTO:+0100
TZNAME:CET
END:STANDARD
END:VTIMEZONE
END:VCALENDAR