BEGIN:VCALENDAR
VERSION:2.0
PRODID:-//wp-events-plugin.com//5.99912//EN
TZID:Europe/Berlin
X-WR-TIMEZONE:Europe/Berlin
BEGIN:VEVENT
UID:60936@punkt-linden.de
DTSTART;TZID=Europe/Berlin:20251018T130000
DTEND;TZID=Europe/Berlin:20251018T235900
DTSTAMP:20251013T142749Z
URL:https://punkt-linden.de/termine/vernissage-christopher-balassa-transfi
 gura-die-verklaerung-des-bildes/
SUMMARY:Vernissage: Christopher Balassa | Transfigura – Die Verklärung d
 es Bildes
DESCRIPTION:Ein künstlerischer Stil\, ein gewisser Modus der Malerei\, ist
  bestenfalls nicht nur eine ästhetische Variation und eine zeitgefällige
  Mode\, sondern vielmehr der Ausdruck einer bestimmten Wahrnehmung. Er tra
 nsportiert eine höhere Wahrheit\, welche die Dinge in ihrem wahren und of
 t unsichtbaren Wesen jenseits einer bloßen Abbildung offenbart.\n\nKunst 
 kann einen spirituellen Anteil besitzen\, durch den das Bild zum Medium wi
 rd\, das den Zugang zu anderen Realitäten ermöglicht. Spirituelle Bilder
  sind Abbildungen eines höheren Bewusstseins und gleichzeitig visuelle Ve
 hikel\, durch deren Betrachtung ein höherer Geisteszustand erreicht werde
 n kann.\n\nDie Ausstellung Transfigura - Die Verklärung des Bildes zeigt 
 Kunstwerke von Christopher Balassa\, in denen er die spirituelle Kraft von
  Bildern und die Erleuchtung des Augenblicks beschwört. Durch seine Über
 malungen von Fotos erreicht er einen gesteigerten Ausdruck des Bildgegenst
 andes\, der in seiner psychedelischen Form unser Bewusstsein anregt und ti
 efer gehende beziehungsweise höher liegende Bedeutungsebenen eröffnet. F
 ür Balassa sind im Bild festgehaltene Erinnerungen keine statischen Relik
 te der Vergangenheit. Sie verbinden in seiner Malerei das Zurückliegende 
 mit der Gegenwart und der Zukunft. Balassas Bilder bieten uns neben einem 
 Rückblick immer auch einen Ausblick ins Zukünftige und einen Einblick in
  die innere Spiritualität.\n\n\nAnlässlich des „Día de los Muertos“
  kombiniert Christopher Balassa bei metavier seine Gemälde und Übermalun
 gen mit einem von ihm gestalteten Schrein\, der den Toten gedenkt und den 
 Angehörigen die Möglichkeit bietet\, eigene Fotos von Verstorbenen aufzu
 stellen und sie so in den Kreis der Gegenwart zu integrieren. Transfigura 
 – Die Verklärung des Bildes bietet ein Spiel aus Farben und Formen\, da
 s die Wahrnehmung erweitert und die Lebensfreude der Gegenwart sowie die Z
 uversicht in die Zukunft miteinander in harmonisierenden Einklang bringt.\
 n\nChristopher Balassa (geboren 1985 in Hannover) studierte Freie Kunst an
  der HBK Braunschweig bei Thomas Virnich und Thomas Rentmeister. Er lebt u
 nd arbeitet in Hannover.\n\nLaufzeit: 18.10.2025 - 23.11.2025\nÖffnungsze
 iten: jeden Sonntag 13 - 17 Uhr\nund nach Vereinbarung
ATTACH;FMTTYPE=image/jpeg:https://punkt-linden.de/wp-content/uploads/2025/
 10/Christopher-Balassa.png
CATEGORIES:Ausstellung
LOCATION:metavier – Galerie vom Anfang und Ende\, Minister-Stüve-Straße
  14\, Hannover\, 30449\, Deutschland
X-APPLE-STRUCTURED-LOCATION;VALUE=URI;X-ADDRESS=Minister-Stüve-Straße 14\
 , Hannover\, 30449\, Deutschland;X-APPLE-RADIUS=100;X-TITLE=metavier – G
 alerie vom Anfang und Ende:geo:0,0
END:VEVENT
BEGIN:VTIMEZONE
TZID:Europe/Berlin
X-LIC-LOCATION:Europe/Berlin
BEGIN:DAYLIGHT
DTSTART:20250330T030000
TZOFFSETFROM:+0100
TZOFFSETTO:+0200
TZNAME:CEST
END:DAYLIGHT
END:VTIMEZONE
END:VCALENDAR