BEGIN:VCALENDAR
VERSION:2.0
PRODID:-//wp-events-plugin.com//5.99912//EN
TZID:Europe/Berlin
X-WR-TIMEZONE:Europe/Berlin
BEGIN:VEVENT
UID:60381@punkt-linden.de
DTSTART;TZID=Europe/Berlin:20250830T180000
DTEND;TZID=Europe/Berlin:20250830T235900
DTSTAMP:20250818T151542Z
URL:https://punkt-linden.de/termine/vernissage-alwine-baresch-und-nozomi-h
 asegawa-panta-rhei-alles-fliesst/
SUMMARY:Vernissage: Alwine Baresch und Nozomi Hasegawa | Panta Rhei - alles
  fließt
DESCRIPTION:Die Kunstgeschichte ist geprägt von einem sich ständig wandel
 nden Verhältnis von Inhalt und Form. Einerseits findet der stetige Verän
 derungsprozess der Welt in der Kunst Ausdruck\, andererseits bedingt erst 
 der sich ständig wandelnde Kunstbegriff eine veränderte Wahrnehmung der 
 uns umgebenden Wirklichkeit. Die objektive Erscheinung einer rationalen We
 lt steht in gegenseitiger Wechselwirkung mit der subjektiven\, emotionalen
  Erfahrung von Wirklichkeit. Bei allem Wandel und der Vielfalt des Kunstge
 genstands und des Kunstbegriffs gibt es aber immer auch gedankliche Konzep
 te\, die die Gültigkeit einer überzeitlichen Wahrheit besitzen.\n\nDie F
 lusslehre des Heraklit stellt in der platonischen Überlieferung eine solc
 he Erkenntnis dar. Sie prägt unseren Kulturraum seit Jahrtausenden nachha
 ltig und liegt der Erfahrung des eigenen Bewusstseins zugrunde:\n\n„Alle
 s fließt und nichts bleibt\; es gibt nur ein ewiges Werden und Wandeln.
 “\n\nDie Kunst von Alwine Baresch und Nozomi Hasegawa erhebt die Natur u
 nd den Kreislauf des ewigen Werdens und Wandels zum gemeinsamen Bildgegens
 tand. In einer dialogischen Gegenüberstellung eröffnen ihre Gemälde in 
 der Ausstellung Panta Rhei – alles fließt sehr unterschiedliche Wahrneh
 mungen der uns umgebenden Wirklichkeit.\n\nNozomi Hasegawa präsentiert in
  dieser Ausstellung Gemälde\, die auf unterschiedlichen digitalen Quellen
  wie Fotografien und 3D-Scans einzelner Bäume und Pflanzen basieren. Dies
 e digitalen Ausgangsmaterialien dienen der Künstlerin als Inspirationsque
 lle für ihre analoge Malerei. Glitches\, Polygone und Bildartefakte\, die
  während des digitalen Erfassungsprozesses entstehen\, werden dabei zu ei
 genständigen stilistischen Elementen. Sie machen den Wandel und die ästh
 etischen Verschiebungen nachvollziehbar\, die durch die fortschreitende te
 chnische Erfassung und Vermessung der Welt entstehen. Einige Werke wurden 
 speziell für diese Ausstellung geschaffen. Die Kirschblüte („Sakura“
 ) steht in der japanischen Kultur für Neuanfang und Vergänglichkeit\, w
 ährend der Apfel im christlichen Kontext als verbotene Frucht der Genesis
  den Eintritt des Menschen in die Sterblichkeit symbolisiert. Beide Motive
  verweisen auf den Kreislauf von Leben und Tod\, der in den ausgestellten 
 Arbeiten thematisiert wird. \n\nAlwine Baresch eröffnet mit ihren Gemäld
 en immersive Bildräume\, die aus einem spannungsvollen Kontrast zwischen 
 gegenständlichen Versatzstücken und abstrakten Farbflächen komponiert s
 ind. Die monochrome Farbgebung erzeugt ein Gefühl der Entrückung in eine
  Traumwelt\, die vielmehr innere Landschaften abbildet als die äußere We
 lt. Die Grundstimmung der Farbe und die tropischen\, floralen Motive der L
 andschaften stehen in einem gewissen dissonanten Verhältnis zueinander un
 d verkörpern Schönheit und Bedrückung gleichermaßen. Farbgewaltige\, k
 ontrastierende Formen\, die an Wasserfälle oder Gletscher erinnern\, bahn
 en sich ihren Weg durch die Bildlandschaften und bringen einen dynamischen
  Fluss und Wandel in die sonst zeitlos wirkenden Momentaufnahmen ihrer Kom
 positionen.\n\nMit der Ausstellung Panta Rhei – alles fließt erschaffen
  Alwine Baresch und Nozomi Hasegawa einen stetig ändernden Fluss von Werd
 en und Vergehen.\n\nLaufzeit:  30.08.2025 - 12.10.2025\nÖffnungszeiten: j
 eden Sonntag 13 - 17 Uhr und nach Vereinbarung
ATTACH;FMTTYPE=image/jpeg:https://punkt-linden.de/wp-content/uploads/2025/
 08/Panta-Rhei.jpeg
CATEGORIES:Ausstellung
LOCATION:metavier – Galerie vom Anfang und Ende\, Minister-Stüve-Straße
  14\, Hannover\, 30449\, Deutschland
X-APPLE-STRUCTURED-LOCATION;VALUE=URI;X-ADDRESS=Minister-Stüve-Straße 14\
 , Hannover\, 30449\, Deutschland;X-APPLE-RADIUS=100;X-TITLE=metavier – G
 alerie vom Anfang und Ende:geo:0,0
END:VEVENT
BEGIN:VTIMEZONE
TZID:Europe/Berlin
X-LIC-LOCATION:Europe/Berlin
BEGIN:DAYLIGHT
DTSTART:20250330T030000
TZOFFSETFROM:+0100
TZOFFSETTO:+0200
TZNAME:CEST
END:DAYLIGHT
END:VTIMEZONE
END:VCALENDAR