BEGIN:VCALENDAR
VERSION:2.0
PRODID:-//wp-events-plugin.com//5.99912//EN
TZID:Europe/Berlin
X-WR-TIMEZONE:Europe/Berlin
BEGIN:VEVENT
UID:60435@punkt-linden.de
DTSTART;TZID=Europe/Berlin:20250903T190000
DTEND;TZID=Europe/Berlin:20250903T235900
DTSTAMP:20250823T175948Z
URL:https://punkt-linden.de/termine/veranstaltung-zur-ausstellung-1m2-mens
 chenrecht-animationsfilm/
SUMMARY:Veranstaltung zur Ausstellung „1m2 Menschenrecht“: Animationsfi
 lm: „Über Gewalt berichten“
DESCRIPTION:Animationsfilm: „Über Gewalt berichten“\, Srebreniza\, Rua
 nda\, Monrovia ... in der schwarzen Nacht eines Jahrhunderts der Völkermo
 rde\, wie Susan Sontag unsere Zeit genannt hat\, berichten Journalisten vo
 n Krieg und Gewalt.\n\nPedro Rosa Mendes (Text) und Wolf Böwig (Foto)\, h
 aben gemeinsam an den Schauplätzen der westafrikanischen Bürgerkriege de
 s Charles Taylor als Reporter gearbeitet. Verdammt zur passiven Zeugenscha
 ft\, drängen sich ihnen elementare Fragen auf: Wo liegen die Grenzen des 
 Verstehens? Wie von Krieg und Gewalt berichten ohne abzustumpfen? Wie ange
 sichts alptraumartiger Massaker ein Mensch bleiben?
CATEGORIES:Kino, Film,Kirche, Religion,Politik
LOCATION:Bethlehemkirche\, Bethlehemplatz 1\, Hannover\, 30451\, Deutschlan
 d
GEO:52.372863;9.701389
X-APPLE-STRUCTURED-LOCATION;VALUE=URI;X-ADDRESS=Bethlehemplatz 1\, Hannover
 \, 30451\, Deutschland;X-APPLE-RADIUS=100;X-TITLE=Bethlehemkirche:geo:52.3
 72863,9.701389
END:VEVENT
BEGIN:VTIMEZONE
TZID:Europe/Berlin
X-LIC-LOCATION:Europe/Berlin
BEGIN:DAYLIGHT
DTSTART:20250330T030000
TZOFFSETFROM:+0100
TZOFFSETTO:+0200
TZNAME:CEST
END:DAYLIGHT
END:VTIMEZONE
END:VCALENDAR