BEGIN:VCALENDAR
VERSION:2.0
PRODID:-//wp-events-plugin.com//5.99912//EN
TZID:Europe/Berlin
X-WR-TIMEZONE:Europe/Berlin
BEGIN:VEVENT
UID:59890@punkt-linden.de
DTSTART;TZID=Europe/Berlin:20250724T200000
DTEND;TZID=Europe/Berlin:20250724T235900
DTSTAMP:20250625T205738Z
URL:https://punkt-linden.de/termine/valley-of-the-sun/
SUMMARY:VALLEY OF THE SUN
DESCRIPTION:Stoner-Rock aus den USA - eine dynamische Flut aus High-Volume-
 Rock\, schwebenden Melodien und furiosen Rhythmen.\n\nWer hätte gedacht\,
  dass mitten im braven Ohio ein glühender Hexenkessel des Rock ’n’ Ro
 ll lodert?\n\nVor einiger Zeit ist der Teufel persönlich durch den Bundes
 staat gezogen und hat überall seine Saat gestreut – jetzt hat jede Stad
 t ihre eigenen Hohepriester der höllischen Riffs. In Cincinnati herrschen
  Valley of the Sun über ihre Gemeinde – und die ist gut auf Linie. Von 
 der Bühne hagelt es ein Donnerwetter aus Fuzz\, Feedback und feurigen Rif
 fs\, direkt ins Gesicht. Das ist kein Konzert – das ist eine verdammte M
 esse.\n\nAlso komm zur Rock-’n’-Roll-Revival-Show\, bring dein Opfer m
 it (Bier\, Schweiß oder Seele – alles wird genommen) und sei bereit fü
 r die totale Salbung im Namen des heiligen Riffs!
ATTACH;FMTTYPE=image/jpeg:https://punkt-linden.de/wp-content/uploads/2025/
 06/Valley-Of-The-Sun_IMG_8734-photo-Jarrod-Warf-gr.jpg
CATEGORIES:Musik, Konzert
LOCATION:Café Glocksee\, Glockseestraße 35\, Hannover\, 30169\, Deutschla
 nd
GEO:52.37186;9.720571
X-APPLE-STRUCTURED-LOCATION;VALUE=URI;X-ADDRESS=Glockseestraße 35\, Hannov
 er\, 30169\, Deutschland;X-APPLE-RADIUS=100;X-TITLE=Café Glocksee:geo:52.
 37186,9.720571
END:VEVENT
BEGIN:VTIMEZONE
TZID:Europe/Berlin
X-LIC-LOCATION:Europe/Berlin
BEGIN:DAYLIGHT
DTSTART:20250330T030000
TZOFFSETFROM:+0100
TZOFFSETTO:+0200
TZNAME:CEST
END:DAYLIGHT
END:VTIMEZONE
END:VCALENDAR