BEGIN:VCALENDAR
VERSION:2.0
PRODID:-//wp-events-plugin.com//5.99912//EN
TZID:Europe/Berlin
X-WR-TIMEZONE:Europe/Berlin
BEGIN:VEVENT
UID:60637@punkt-linden.de
DTSTART;TZID=Europe/Berlin:20250921T120000
DTEND;TZID=Europe/Berlin:20250921T235900
DTSTAMP:20250911T130602Z
URL:https://punkt-linden.de/termine/uestra-mobilitaetsfest-auf-dem-betrieb
 shof-glocksee/
SUMMARY:ÜSTRA Mobilitätsfest auf dem Betriebshof Glocksee
DESCRIPTION:Von 12 bis 18 Uhr öffnen wir unseren Betriebshof Glocksee und 
 laden dich zum ÜSTRA Mobilitätsfest ein – natürlich bei freiem Eintri
 tt. 🥳\n\nDich erwarten gleich zwei Jubiläen: 100 Jahre Kraftomnibus un
 d 50 Jahre Stadtbahn – dazu Oldtimer-Schätze aus unserer Geschichte. Be
 i exklusiven Einblicken kannst du in Werkstatt und Fahrzeughallen schauen 
 und unsere Betriebsfahrzeuge hautnah erleben. Gemeinsam mit den Smart City
  Days geht’s außerdem um die Mobilität der Zukunft – mit Workshops\,
  Mitmachaktionen und den Escape Rooms unserer Azubis. 🚋 🚌\n\nAuf der
  Bühne: Talk zur Verkehrswende\, das große ÜSTRA Quiz\, eine Zaubershow
  für die Kleinen und Live-Musik von bäm. 🎶\n\nDieses Fest ist unser D
 ank an dich: Danke\, dass du mit uns fährst.
CATEGORIES:Party, Feiern,Vortrag, Führung, Workshop
LOCATION:ÜSTRA Betriebshof Glocksee\, Ira-Wolkowa-Weg\, Hannover\, 30167\,
  Deutschland
GEO:52.375248;9.716826
X-APPLE-STRUCTURED-LOCATION;VALUE=URI;X-ADDRESS=Ira-Wolkowa-Weg\, Hannover\
 , 30167\, Deutschland;X-APPLE-RADIUS=100;X-TITLE=ÜSTRA Betriebshof Glocks
 ee:geo:52.375248,9.716826
END:VEVENT
BEGIN:VTIMEZONE
TZID:Europe/Berlin
X-LIC-LOCATION:Europe/Berlin
BEGIN:DAYLIGHT
DTSTART:20250330T030000
TZOFFSETFROM:+0100
TZOFFSETTO:+0200
TZNAME:CEST
END:DAYLIGHT
END:VTIMEZONE
END:VCALENDAR