BEGIN:VCALENDAR
VERSION:2.0
PRODID:-//wp-events-plugin.com//5.99912//EN
TZID:Europe/Berlin
X-WR-TIMEZONE:Europe/Berlin
BEGIN:VEVENT
UID:59391@punkt-linden.de
DTSTART;TZID=Europe/Berlin:20250501T110000
DTEND;TZID=Europe/Berlin:20250501T180000
DTSTAMP:20250419T205451Z
URL:https://punkt-linden.de/termine/traditionsradrennen-das-56-lindener-be
 rgkriterium/
SUMMARY:Traditionsradrennen: Das 56. Lindener Bergkriterium
DESCRIPTION:Am 1. Mai 2025 findet das traditionsreiche Lindener Bergkriteri
 um zum 56. Mal statt. Auf dem anspruchsvollen Rundkurs in Linden-Mitte mes
 sen sich Fahrerinnen und Fahrer aller Leistungsklassen. Zuschauer dürfen 
 sich auf spannende Rennen\, leckeres Streetfood und beste Stimmung freuen.
 &nbsp\;Weitere Informationen dazu in der hier verlinkten Punkt-Linden News
ATTACH;FMTTYPE=image/jpeg:https://punkt-linden.de/wp-content/uploads/2025/
 04/lindener-bergkriterium-2024.jpeg
LOCATION:Lindener Berg\, Am Lindener Berge\, Hannover\, 30449\, Deutschland
GEO:52.362493;9.704528
X-APPLE-STRUCTURED-LOCATION;VALUE=URI;X-ADDRESS=Am Lindener Berge\, Hannove
 r\, 30449\, Deutschland;X-APPLE-RADIUS=100;X-TITLE=Lindener Berg:geo:52.36
 2493,9.704528
END:VEVENT
BEGIN:VTIMEZONE
TZID:Europe/Berlin
X-LIC-LOCATION:Europe/Berlin
BEGIN:DAYLIGHT
DTSTART:20250330T030000
TZOFFSETFROM:+0100
TZOFFSETTO:+0200
TZNAME:CEST
END:DAYLIGHT
END:VTIMEZONE
END:VCALENDAR