BEGIN:VCALENDAR
VERSION:2.0
PRODID:-//wp-events-plugin.com//5.99912//EN
TZID:Europe/Berlin
X-WR-TIMEZONE:Europe/Berlin
BEGIN:VEVENT
UID:60171@punkt-linden.de
DTSTART;TZID=Europe/Berlin:20250804T090000
DTEND;TZID=Europe/Berlin:20250804T235900
DTSTAMP:20250730T104937Z
URL:https://punkt-linden.de/termine/tanzsommer/
SUMMARY:Tanzsommer
DESCRIPTION:Wir haben hier ein tolles Tanzangebot für die Sommerferien. Am
  Ende des Kurses zeigen wir euch\, was wir gelernt haben. Das ist für Kin
 der im Alter von sieben bis neun Jahren. Für vier Termine zahlst du nur 1
 6 Euro. Mit HAP gibt es sogar 50 % Ermäßigung. Bitte melde dich kurz an\
 , um das zu nutzen.\nhttp://www.fzh-linden.de
CATEGORIES:Für Kinder
LOCATION:Freizeitheim Linden\, Windheimstraße 4\, Hannover\, Niedersachsen
 \, 30451\, Deutschland
GEO:52.375006;9.700013
X-APPLE-STRUCTURED-LOCATION;VALUE=URI;X-ADDRESS=Windheimstraße 4\, Hannove
 r\, Niedersachsen\, 30451\, Deutschland;X-APPLE-RADIUS=100;X-TITLE=Freizei
 theim Linden:geo:52.375006,9.700013
END:VEVENT
BEGIN:VTIMEZONE
TZID:Europe/Berlin
X-LIC-LOCATION:Europe/Berlin
BEGIN:DAYLIGHT
DTSTART:20250330T030000
TZOFFSETFROM:+0100
TZOFFSETTO:+0200
TZNAME:CEST
END:DAYLIGHT
END:VTIMEZONE
END:VCALENDAR