BEGIN:VCALENDAR
VERSION:2.0
PRODID:-//wp-events-plugin.com//5.99912//EN
TZID:Europe/Berlin
X-WR-TIMEZONE:Europe/Berlin
BEGIN:VEVENT
UID:62772@punkt-linden.de
DTSTART;TZID=Europe/Berlin:20260530T110000
DTEND;TZID=Europe/Berlin:20260530T235900
DTSTAMP:20260415T104723Z
URL:https://punkt-linden.de/termine/summbrumm-insektennisthilfen-bauen-mit
 -der-werk-statt-schule/
SUMMARY:SummBrumm - Insektennisthilfen bauen mit der Werk-statt-Schule
DESCRIPTION:Heute könnt ihr ein Zuhause für die Wildbienen in eurer Umgeb
 ung bauen und so zum Erhalt der Artenvielfalt beitragen. Dazu werden versc
 hieden große Papphülsen gemischt und zusammen mit etwas Gips in einem vo
 rgefertigten Häuschen angeordnet. Natürlich brauchen die Bienen auch ein
 e Umgebung mit Blumen und Pflanzen\, daher bekommt ihr auch noch ein Tütc
 hen mit Samen zum Aussähen und eine kleine Anleitung\, welcher Ort für d
 as Haus besonders geeignet ist mit.\n\nLeitung: Werk-statt-Schule e.V.\nWo
 rkshopzeit: 11-16 Uhr\nFür Kinder ab 5 Jahren. Offenes Angebot. Ohne Anme
 ldung.\nEs fallen Materialkosten von 5€ + der Museumseintritt an.
CATEGORIES:Vortrag, Führung, Workshop
LOCATION:Kindermuseum Zinnober\, Am Steinbruch 16\, Hannover\, 30449\, Deut
 schland
GEO:52.363539;9.699694
X-APPLE-STRUCTURED-LOCATION;VALUE=URI;X-ADDRESS=Am Steinbruch 16\, Hannover
 \, 30449\, Deutschland;X-APPLE-RADIUS=100;X-TITLE=Kindermuseum Zinnober:ge
 o:52.363539,9.699694
END:VEVENT
BEGIN:VTIMEZONE
TZID:Europe/Berlin
X-LIC-LOCATION:Europe/Berlin
BEGIN:DAYLIGHT
DTSTART:20260329T030000
TZOFFSETFROM:+0100
TZOFFSETTO:+0200
TZNAME:CEST
END:DAYLIGHT
END:VTIMEZONE
END:VCALENDAR