BEGIN:VCALENDAR
VERSION:2.0
PRODID:-//wp-events-plugin.com//5.99912//EN
TZID:Europe/Berlin
X-WR-TIMEZONE:Europe/Berlin
BEGIN:VEVENT
UID:62031@punkt-linden.de
DTSTART;TZID=Europe/Berlin:20260205T150000
DTEND;TZID=Europe/Berlin:20260205T235900
DTSTAMP:20260131T200059Z
URL:https://punkt-linden.de/termine/stecklingsverkauf-hemp-heaven-hannover
 /
SUMMARY:Stecklingsverkauf Hemp Heaven Hannover
DESCRIPTION:Wir vom Hemp Heaven Hannover e.V. verkaufen unsere Stecklinge a
 n alle Personen ab 18 Jahren (zwischen 18 und 21 Jahren nur Sorten unter 1
 0 % THC). Eine Vereinsmitgliedschaft ist nicht erforderlich.\n\nUnsere Ste
 cklinge werden aeroponisch aufgezogen\, damit auch Grower:innen\, die auf 
 Erde verzichten möchten\, sie problemlos anbauen können. Du erhältst de
 inen Steckling wahlweise im Papiertuch oder – gegen eine kleine Serviceg
 ebühr – im 0\,35-L-Anzuchttopf mit Erde.\n\nWir führen sowohl Breeder 
 Cuts als auch eigene Selektionen.\nPreis pro Steckling: 10 €.\n\nWelche 
 Sorten aktuell verfügbar sind\, findest du auf unserer Website:\nhttps://
 hemp-heaven-hannover.de/Stecklinge
CATEGORIES:Markt, Flohmarkt
LOCATION:PLATZprojekt\, Fössestraße 103\, Hannover\, 30453\, Deutschland
GEO:52.368185;9.697226
X-APPLE-STRUCTURED-LOCATION;VALUE=URI;X-ADDRESS=Fössestraße 103\, Hannove
 r\, 30453\, Deutschland;X-APPLE-RADIUS=100;X-TITLE=PLATZprojekt:geo:52.368
 185,9.697226
END:VEVENT
BEGIN:VTIMEZONE
TZID:Europe/Berlin
X-LIC-LOCATION:Europe/Berlin
BEGIN:STANDARD
DTSTART:20251026T020000
TZOFFSETFROM:+0200
TZOFFSETTO:+0100
TZNAME:CET
END:STANDARD
END:VTIMEZONE
END:VCALENDAR