BEGIN:VCALENDAR
VERSION:2.0
PRODID:-//wp-events-plugin.com//5.99912//EN
TZID:Europe/Berlin
X-WR-TIMEZONE:Europe/Berlin
BEGIN:VEVENT
UID:62886@punkt-linden.de
DTSTART;TZID=Europe/Berlin:20260525T140000
DTEND;TZID=Europe/Berlin:20260525T235900
DTSTAMP:20260422T121215Z
URL:https://punkt-linden.de/termine/spielzeit-spielkultur-am-wochenende-3/
SUMMARY:SPIEL:ZEIT - Spielkultur am Wochenende
DESCRIPTION:SPIEL:ZEIT ist für die ganze Familie - Tanz\, Theater\, Bewegu
 ng\, Musik und Kreatives. Der Spaß am gemeinsamen Tun steht im Vordergrun
 d. Künstler*innen und andere Kulturschaffende begleiten euch durch den Na
 chmittag und geben spannende Anregungen zum Selbermachen.\n\nWir gehen im 
 Rahmen der SPIEL:ZEIT in den Berggarten. Wir treffen uns dafür entweder u
 m 14 Uhr an der Haltestelle am Küchengarten oder um 14:30 Uhr am Eingang 
 des Berggartens.\nDas Angebot richtet sich an Eltern mit Kindern zwischen 
 6-12 Jahren.
ATTACH;FMTTYPE=image/jpeg:https://punkt-linden.de/wp-content/uploads/2026/
 04/schnuppern_Berggarten_kleiner.jpg
CATEGORIES:Für Kinder,Sport, Spiel
LOCATION:Küchengarten\, Am Küchengarten\, Hannover\, 30449\, Deutschland
GEO:52.370748;9.715717
X-APPLE-STRUCTURED-LOCATION;VALUE=URI;X-ADDRESS=Am Küchengarten\, Hannover
 \, 30449\, Deutschland;X-APPLE-RADIUS=100;X-TITLE=Küchengarten:geo:52.370
 748,9.715717
END:VEVENT
BEGIN:VTIMEZONE
TZID:Europe/Berlin
X-LIC-LOCATION:Europe/Berlin
BEGIN:DAYLIGHT
DTSTART:20260329T030000
TZOFFSETFROM:+0100
TZOFFSETTO:+0200
TZNAME:CEST
END:DAYLIGHT
END:VTIMEZONE
END:VCALENDAR