BEGIN:VCALENDAR
VERSION:2.0
PRODID:-//wp-events-plugin.com//5.99912//EN
TZID:Europe/Berlin
X-WR-TIMEZONE:Europe/Berlin
BEGIN:VEVENT
UID:62803@punkt-linden.de
DTSTART;TZID=Europe/Berlin:20260504T190000
DTEND;TZID=Europe/Berlin:20260504T235900
DTSTAMP:20260415T181444Z
URL:https://punkt-linden.de/termine/spieleabend-der-zukunftswerkstatt-ihme
 -zentrum-und-ihmekult/
SUMMARY:Spieleabend der Zukunftswerkstatt Ihme-Zentrum und ihmeKULT!
DESCRIPTION:Einfach vorbeikommen\, gern ein eigenes Spiel mitbringen und Sp
 aß haben! Eintritt frei
CATEGORIES:Sport, Spiel
LOCATION:ihmeKULT! e.V.\, Ihmeplatz 7E\, Hannover\, 30449\, Deutschland
GEO:52.371598;9.716444
X-APPLE-STRUCTURED-LOCATION;VALUE=URI;X-ADDRESS=Ihmeplatz 7E\, Hannover\, 3
 0449\, Deutschland;X-APPLE-RADIUS=100;X-TITLE=ihmeKULT! e.V.:geo:52.371598
 ,9.716444
END:VEVENT
BEGIN:VTIMEZONE
TZID:Europe/Berlin
X-LIC-LOCATION:Europe/Berlin
BEGIN:DAYLIGHT
DTSTART:20260329T030000
TZOFFSETFROM:+0100
TZOFFSETTO:+0200
TZNAME:CEST
END:DAYLIGHT
END:VTIMEZONE
END:VCALENDAR