BEGIN:VCALENDAR
VERSION:2.0
PRODID:-//wp-events-plugin.com//5.99912//EN
TZID:Europe/Berlin
X-WR-TIMEZONE:Europe/Berlin
BEGIN:VEVENT
UID:60448@punkt-linden.de
DTSTART;TZID=Europe/Berlin:20250921T110000
DTEND;TZID=Europe/Berlin:20250921T235900
DTSTAMP:20250825T091309Z
URL:https://punkt-linden.de/termine/sozialdemokratische-aussen-und-frieden
 spolitik-in-unsicheren-zeiten/
SUMMARY:Sozialdemokratische Außen- und Friedenspolitik in unsicheren Zeite
 n
DESCRIPTION:Diskussion mit Dr. Rolf Mützenich
ATTACH;FMTTYPE=image/jpeg:https://punkt-linden.de/wp-content/uploads/2025/
 08/Rolf-Muetzenich-in-Linden.png
CATEGORIES:Politik
LOCATION:IGS Linden\, Am Lindener Berge 11\, Hannover\, 30449\, Deutschland
X-APPLE-STRUCTURED-LOCATION;VALUE=URI;X-ADDRESS=Am Lindener Berge 11\, Hann
 over\, 30449\, Deutschland;X-APPLE-RADIUS=100;X-TITLE=IGS Linden:geo:0,0
END:VEVENT
BEGIN:VTIMEZONE
TZID:Europe/Berlin
X-LIC-LOCATION:Europe/Berlin
BEGIN:DAYLIGHT
DTSTART:20250330T030000
TZOFFSETFROM:+0100
TZOFFSETTO:+0200
TZNAME:CEST
END:DAYLIGHT
END:VTIMEZONE
END:VCALENDAR