BEGIN:VCALENDAR
VERSION:2.0
PRODID:-//wp-events-plugin.com//5.99912//EN
TZID:Europe/Berlin
X-WR-TIMEZONE:Europe/Berlin
BEGIN:VEVENT
UID:62017@punkt-linden.de
DTSTART;TZID=Europe/Berlin:20260213T150000
DTEND;TZID=Europe/Berlin:20260213T235900
DTSTAMP:20260131T102349Z
URL:https://punkt-linden.de/termine/sovd-ortsverband-lindenlimmer-trifft-m
 itglieder/
SUMMARY:SoVD Ortsverband Linden/Limmer trifft Mitglieder
DESCRIPTION:Start der monatlichen Treffen des SoVD Ortsverband Linden/Limme
 r mit Mitgliedern und Interessierten zum Austausch\, Klönen und was sonst
  noch wichtig ist. Ab diesem Jahr in neuer Location in den Lindener Bergte
 rassen beim SV Linden 07...wir freuen uns auf euch!
CATEGORIES:Engagement, Ehrenamt,Essen, Trinken,Politik
LOCATION:SV 1907 Linden Stadion\, Am Spielfelde 11\, Hannover\, 30449\, Deu
 tschland
GEO:52.36321;9.708256
X-APPLE-STRUCTURED-LOCATION;VALUE=URI;X-ADDRESS=Am Spielfelde 11\, Hannover
 \, 30449\, Deutschland;X-APPLE-RADIUS=100;X-TITLE=SV 1907 Linden Stadion:g
 eo:52.36321,9.708256
END:VEVENT
BEGIN:VTIMEZONE
TZID:Europe/Berlin
X-LIC-LOCATION:Europe/Berlin
BEGIN:STANDARD
DTSTART:20251026T020000
TZOFFSETFROM:+0200
TZOFFSETTO:+0100
TZNAME:CET
END:STANDARD
END:VTIMEZONE
END:VCALENDAR