BEGIN:VCALENDAR
VERSION:2.0
PRODID:-//wp-events-plugin.com//5.99912//EN
TZID:Europe/Berlin
X-WR-TIMEZONE:Europe/Berlin
BEGIN:VEVENT
UID:61249@punkt-linden.de
DTSTART;TZID=Europe/Berlin:20251211T184500
DTEND;TZID=Europe/Berlin:20251211T235900
DTSTAMP:20251115T203151Z
URL:https://punkt-linden.de/termine/singalong-weihnachtssingen/
SUMMARY:SINGALONG - WEIHNACHTSSINGEN
DESCRIPTION:Du liebst es zu singen – aber nicht allein?\nDann komm zu Sin
 gAlong und erlebe einen ganz besonderen Mitsing-Moment in deiner Stadt!\n\
 nGemeinsam mit über hundert anderen singst du die Songs\, die du kennst u
 nd liebst – laut\, leidenschaftlich und mit jeder Menge Gänsehaut.\nOb 
 80er-Kult\, 90er-Hits oder die größten Songs der 2000er und 2010er: Jede
 s Event steht unter einem eigenen Motto – und bietet die passenden Hits 
 für jeden Geschmack.\n\nAlle Songtexte werden auf einer großen Leinwand 
 eingeblendet\, sodass wirklich jede:r ganz einfach mitsingen kann. Die Pla
 ylist reicht von zeitlosen Evergreens bis zu echten Karaoke-Krachern.
CATEGORIES:Sonstiges
LOCATION:Café Glocksee\, Glockseestraße 35\, Hannover\, 30169\, Deutschla
 nd
GEO:52.37186;9.720571
X-APPLE-STRUCTURED-LOCATION;VALUE=URI;X-ADDRESS=Glockseestraße 35\, Hannov
 er\, 30169\, Deutschland;X-APPLE-RADIUS=100;X-TITLE=Café Glocksee:geo:52.
 37186,9.720571
END:VEVENT
BEGIN:VTIMEZONE
TZID:Europe/Berlin
X-LIC-LOCATION:Europe/Berlin
BEGIN:STANDARD
DTSTART:20251026T020000
TZOFFSETFROM:+0200
TZOFFSETTO:+0100
TZNAME:CET
END:STANDARD
END:VTIMEZONE
END:VCALENDAR