BEGIN:VCALENDAR
VERSION:2.0
PRODID:-//wp-events-plugin.com//5.99912//EN
TZID:Europe/Berlin
X-WR-TIMEZONE:Europe/Berlin
BEGIN:VEVENT
UID:60241@punkt-linden.de
DTSTART;TZID=Europe/Berlin:20250830T180000
DTEND;TZID=Europe/Berlin:20250830T235900
DTSTAMP:20250805T193349Z
URL:https://punkt-linden.de/termine/silicon-dreams-objekttheaterperformanc
 e-3/
SUMMARY:‚Silicon Dreams‘ – Objekttheaterperformance
DESCRIPTION:Ohne Mikrochips steht unsere Welt still: Sie steuern Smartphone
 s\, Fahrzeuge\, Stromnetze\, Kommunikationssysteme\, Börsen und militäri
 sche Systeme. Mikrochips sind nicht nur technische Bauteile\, sondern auch
  geopolitische Schlüsselfaktoren. Mit „Silicon Dreams“ widmet sich Ou
 tOfTheBox dem Mikrochip als globalem Machtinstrument und als Motor regiona
 ler Zukunftsstrategien.\nWas dabei oft übersehen wird: Die Mikrochip-Indu
 strie hat in Ostdeutschland eine lange Geschichte. Bereits in der DDR wurd
 e an eigener Mikroelektronik geforscht und produziert. Bis heute hat sich 
 insbesondere in Sachsen eine hochspezialisierte Industrie gehalten\, die i
 m Zuge neuer Hightech-Ansiedlungen erneut in den Fokus internationaler Auf
 merksamkeit rückt.\n\n„Silicon Dreams“ lädt das Publikum ein\, in di
 ese wenig bekannte Vergangenheit und eine mögliche digitale Zukunft einzu
 tauchen. In einer Objekttheaterperformance trifft dokumentarisches Materia
 l auf eigens entwickelte Soft- und Hardware Objekte. Zwischen historischen
  Fundstücken und spekulativen Szenarien entsteht ein vielschichtiger Raum
 \, der die Vergangenheit\, Gegenwart und Zukunft des Mikrochips in Ostdeut
 schland miteinander verschränkt.\n\nOutOfTheBox entwickelt spekulative So
 ftware und gestaltet performative Erfahrungsräume an der Schnittstelle vo
 n Theater\, Medien­kunst und Gamedesign.\nMehr Infos unter: www.outoftheb
 ox-now.de\n\nSa 30.8.2025 18:00 + 20:00\nDauer: 70min\nEintritt: Pay as yo
 u can
CATEGORIES:Kleinkunst, Schauspiel
LOCATION:GoetheExil\, Goetheplatz 3a\, Hannover\, 30169\, Deutschland
GEO:52.373355;9.723241
X-APPLE-STRUCTURED-LOCATION;VALUE=URI;X-ADDRESS=Goetheplatz 3a\, Hannover\,
  30169\, Deutschland;X-APPLE-RADIUS=100;X-TITLE=GoetheExil:geo:52.373355,9
 .723241
END:VEVENT
BEGIN:VTIMEZONE
TZID:Europe/Berlin
X-LIC-LOCATION:Europe/Berlin
BEGIN:DAYLIGHT
DTSTART:20250330T030000
TZOFFSETFROM:+0100
TZOFFSETTO:+0200
TZNAME:CEST
END:DAYLIGHT
END:VTIMEZONE
END:VCALENDAR