BEGIN:VCALENDAR
VERSION:2.0
PRODID:-//wp-events-plugin.com//5.99912//EN
TZID:Europe/Berlin
X-WR-TIMEZONE:Europe/Berlin
BEGIN:VEVENT
UID:62709@punkt-linden.de
DTSTART;TZID=Europe/Berlin:20260504T193000
DTEND;TZID=Europe/Berlin:20260504T193000
DTSTAMP:20260410T160006Z
URL:https://punkt-linden.de/termine/sci-fi-tablequiz/
SUMMARY:Sci-Fi Tablequiz
DESCRIPTION:Kann man eigentlich mit 1.21 Gigawatt ein Schiff der Firefly-Kl
 asse antreiben Hat die koloniale Viper eine höhere Wenderate als die Star
 fury Wer gewinnt eine unheimliche Begegnung der dritten Art - das Alien\, 
 der T-1000 oder Wesleys Nanobots Die Wahrheit ist irgendwo da draußen!Wen
 n ihr nicht alle Universen erkannt habt: KEINE PANIK\, bringt einfach euer
  Handtuch mit und freut euch auf 5 spannende Fragerunden beim 11. Ultimati
 ven Science Fiction Tablequiz!\nDie maximale Teamgröße liegt bei 6 Perso
 nen. Ihr könnt auch unangemeldet erscheinen\, aber sollten wir zu wenig T
 ische / Plätze haben\, haben die angemeldeten Teams natürlich Vorfahrt!\
 nEs muss nur ein Ticket für bis zu 6 Personen erworben werden.Tickets:  H
 ier Tickets bestellen
CATEGORIES:Sport, Spiel
LOCATION:Béi Chéz Heinz\, Liepmannstraße 7b\, Hannover\, 30453\, Deutsch
 land
GEO:52.37195;9.69636
X-APPLE-STRUCTURED-LOCATION;VALUE=URI;X-ADDRESS=Liepmannstraße 7b\, Hannov
 er\, 30453\, Deutschland;X-APPLE-RADIUS=100;X-TITLE=Béi Chéz Heinz:geo:5
 2.37195,9.69636
END:VEVENT
BEGIN:VTIMEZONE
TZID:Europe/Berlin
X-LIC-LOCATION:Europe/Berlin
BEGIN:DAYLIGHT
DTSTART:20260329T030000
TZOFFSETFROM:+0100
TZOFFSETTO:+0200
TZNAME:CEST
END:DAYLIGHT
END:VTIMEZONE
END:VCALENDAR