BEGIN:VCALENDAR
VERSION:2.0
PRODID:-//wp-events-plugin.com//5.99912//EN
TZID:Europe/Berlin
X-WR-TIMEZONE:Europe/Berlin
BEGIN:VEVENT
UID:60899@punkt-linden.de
DTSTART;TZID=Europe/Berlin:20251128T160000
DTEND;TZID=Europe/Berlin:20251128T235900
DTSTAMP:20251008T131021Z
URL:https://punkt-linden.de/termine/schlafen-spaeter-die-lange-hoernacht-i
 m-kindermuseum/
SUMMARY:Schlafen? Später! - Die Lange Hörnacht im Kindermuseum
DESCRIPTION:Wenn es zu dunkel für die Augen ist\, werden sie noch wichtige
 r\, als sie eh schon sind: unsere Ohren. Manche sagen\, wir hören besser\
 , wenn es dunkel ist. Probiert es doch mal aus und öffnet eure Lauscher 
 – bei der Zinnober-Hörnacht!\n\nEinen Abend lang öffnen wir unsere Tü
 ren über die Öffnungszeit hinaus. Euch erwartet ein buntes Programm rund
  ums Hören. Wie klingt die Arbeit eines Naturparkrangers? Wie entsteht ei
 n Hörspiel? Wie hört sich ein Film an\, wenn ihr die Geräusche dazu aus
 suchen würdet? All das und noch viel mehr könnt ihr erforschen. Und viel
 leicht klingt unsere Mitmach-Ausstellung „Lauscher\, Löffel\, Labertasc
 he“ abends mal ganz anders?!\n\nFreitag\, 28. November | 16-21 Uhr\nFür
  Kinder ab 5 Jahren | ohne Anmeldung\n\nMit Aktionen dabei: die Hörbühne
  Hannover\, Musiker Holger Kirleis\, das MusikZentrum Hannover und der Nat
 urpark Steinhuder Meer.
ATTACH;FMTTYPE=image/jpeg:https://punkt-linden.de/wp-content/uploads/2025/
 10/20251008_132838.jpg
CATEGORIES:Ausstellung,Für Kinder,Kino, Film,Musik, Konzert
LOCATION:Kindermuseum Zinnober\, Am Steinbruch 16\, Hannover\, 30449\, Deut
 schland
GEO:52.363539;9.699694
X-APPLE-STRUCTURED-LOCATION;VALUE=URI;X-ADDRESS=Am Steinbruch 16\, Hannover
 \, 30449\, Deutschland;X-APPLE-RADIUS=100;X-TITLE=Kindermuseum Zinnober:ge
 o:52.363539,9.699694
END:VEVENT
BEGIN:VTIMEZONE
TZID:Europe/Berlin
X-LIC-LOCATION:Europe/Berlin
BEGIN:STANDARD
DTSTART:20251026T020000
TZOFFSETFROM:+0200
TZOFFSETTO:+0100
TZNAME:CET
END:STANDARD
END:VTIMEZONE
END:VCALENDAR