BEGIN:VCALENDAR
VERSION:2.0
PRODID:-//wp-events-plugin.com//5.99912//EN
TZID:Europe/Berlin
X-WR-TIMEZONE:Europe/Berlin
BEGIN:VEVENT
UID:59658@punkt-linden.de
DTSTART;TZID=Europe/Berlin:20250708T201500
DTEND;TZID=Europe/Berlin:20250708T235900
DTSTAMP:20250602T201344Z
URL:https://punkt-linden.de/termine/ruby-tuesday-kate-clover/
SUMMARY:Ruby Tuesday | KATE CLOVER
DESCRIPTION:Kate Clover - ein aufstrebender Star der Powerpop-Punk-Undergro
 und-Szene ist kurz davor\, durchzustarten.\n\nIn Kate Clovers Sound und Au
 ftreten verschmelzen die Einflüsse von Blondie\, The Gun Club\, The Runaw
 ays\, The Germs\, The Undertones\, und The Go-Go’s zu einem modernen Gar
 age-Rock-/Punkpop-Sound.\n\nDie Musik der Songwriterin und Musikerin aus L
 os Angeles reflektiert Selbstfindung\, Selbsterhaltung und den Überlebens
 willen in einer Stadt\, in der Träume oft scheitern. Mit rebellischer Ene
 rgie und kompromisslosem Stil steht sie für eine neue Generation von Unde
 rground-Künstlerinnen.\n\nVon Patti Smith und Iggy Pop beeinflusst\, schr
 ieb sie ihren ersten Song nach einem Kunststudium\, in dem sie auch „Chi
 nese Rocks“ von Johnny Thunders lernte. Nach ersten Erfahrungen in versc
 hiedenen Bands entschied sie sich 2019 für eine Solokarriere und reiste n
 ach Mexiko-Stadt\, um zu schreiben – aus vier Tagen wurden vier Monate\,
  in denen sie ihr erstes Album aufnahm.\n\nZurück in L.A. gründete sie e
 ine Band\, erspielte sich mit energiegeladenen Auftritten schnell einen Na
 men und tourte mit Acts wie Death Valley Girls und Crocodiles. Ihre erste 
 EP „Channel Zero“ (gemischt von Grammy-Preisträger Carlos de la Garza
 ) und ihr Debütalbum „Bleed Your Heart Out“ erschienen 2022. Es folgt
 en ausverkaufte Europa-Termine und eine Support-Tour mit Social Distortion
 .\n\n2023 trat sie u. a. mit The Hives\, Fucked Up und Superchunk auf un
 d festigte ihren Ruf als explosive Live-Performerin. 2024 erscheint ihr zw
 eites Album „The Apocalypse Dream“\, produziert von Jonah Falco und er
 neut gemischt von Carlos de la Garza.\n\nEINTRITT FREI!
ATTACH;FMTTYPE=image/jpeg:https://punkt-linden.de/wp-content/uploads/2025/
 06/KATE-CLOVER-kl.jpg
CATEGORIES:Musik, Konzert
LOCATION:Café Glocksee\, Glockseestraße 35\, Hannover\, 30169\, Deutschla
 nd
GEO:52.37186;9.720571
X-APPLE-STRUCTURED-LOCATION;VALUE=URI;X-ADDRESS=Glockseestraße 35\, Hannov
 er\, 30169\, Deutschland;X-APPLE-RADIUS=100;X-TITLE=Café Glocksee:geo:52.
 37186,9.720571
END:VEVENT
BEGIN:VTIMEZONE
TZID:Europe/Berlin
X-LIC-LOCATION:Europe/Berlin
BEGIN:DAYLIGHT
DTSTART:20250330T030000
TZOFFSETFROM:+0100
TZOFFSETTO:+0200
TZNAME:CEST
END:DAYLIGHT
END:VTIMEZONE
END:VCALENDAR