BEGIN:VCALENDAR
VERSION:2.0
PRODID:-//wp-events-plugin.com//5.99912//EN
TZID:Europe/Berlin
X-WR-TIMEZONE:Europe/Berlin
BEGIN:VEVENT
UID:62858@punkt-linden.de
DTSTART;TZID=Europe/Berlin:20260707T210000
DTEND;TZID=Europe/Berlin:20260707T235900
DTSTAMP:20260419T165529Z
URL:https://punkt-linden.de/termine/ruby-tuesday-james-leg/
SUMMARY:Ruby Tuesday | JAMES LEG
DESCRIPTION:Live: JAMES LEG\, Sänger und Keyboarder der gepriesenen Black 
 Diamond Heavies\, ein heulender Wolf der die tiefsten Tiefen des Blues mit
  jeder Menge Dreck\, Whiskey und Körpersäften auffüllt. Ein schwitzende
 r Derwisch hinter den Orgeln\, der körnigsten Punk aus der Hammond presst
  und mit jeder Menge SOUL abfedert.\n\n„Blood on the Keys“ heißt die 
 letzte LP von Leg\, der als John Wesley Myers an der texanischen Küste au
 fgewachsen ist. In die Fußstapfen des Vaters wollte er nicht so ganz tret
 en\, denn der Predigersohn hatte früh eigene Pläne. Viel eher sind psych
 edelische Soul-Jams seine Sache. Am Fender Rhodes sitzend holt er aus ihr 
 und auch aus sich alles raus. Man könnte meinen\, Howlin’ Wolf und Tom 
 Waits hätten sich zu einer Garage-Rock-Band zusammengefunden\, denn in de
 r Whiskey getränkten Stimme wohnen 1000 Jahre Leben und ein unvergleichli
 cher rauher Charme.\n\nJames Leg hat uns bereits zwei unvergessliche Diens
 tags-Nächte beschert\, und so wird auch diese Nacht wieder werden.\n\nEin
 lass 20:00\nBeginn 21:00\nEintritt frei!
ATTACH;FMTTYPE=image/jpeg:https://punkt-linden.de/wp-content/uploads/2026/
 04/James-Leg-03.jpg
CATEGORIES:Musik, Konzert
LOCATION:Café Glocksee\, Glockseestraße 35\, Hannover\, 30169\, Deutschla
 nd
GEO:52.37186;9.720571
X-APPLE-STRUCTURED-LOCATION;VALUE=URI;X-ADDRESS=Glockseestraße 35\, Hannov
 er\, 30169\, Deutschland;X-APPLE-RADIUS=100;X-TITLE=Café Glocksee:geo:52.
 37186,9.720571
END:VEVENT
BEGIN:VTIMEZONE
TZID:Europe/Berlin
X-LIC-LOCATION:Europe/Berlin
BEGIN:DAYLIGHT
DTSTART:20260329T030000
TZOFFSETFROM:+0100
TZOFFSETTO:+0200
TZNAME:CEST
END:DAYLIGHT
END:VTIMEZONE
END:VCALENDAR