BEGIN:VCALENDAR
VERSION:2.0
PRODID:-//wp-events-plugin.com//5.99912//EN
TZID:Europe/Berlin
X-WR-TIMEZONE:Europe/Berlin
BEGIN:VEVENT
UID:62857@punkt-linden.de
DTSTART;TZID=Europe/Berlin:20260630T210000
DTEND;TZID=Europe/Berlin:20260630T235900
DTSTAMP:20260419T164414Z
URL:https://punkt-linden.de/termine/ruby-tuesday-angry-zeta-2/
SUMMARY:Ruby Tuesday | ANGRY ZETA
DESCRIPTION:Die Bluegrass-Punk-Derwische Angry Zeta\, schauen auch in 2026 
 wieder auf ihre jährliche Stippvisite im Cafe Glocksee vorbei.\n\nDie Arg
 entinier fingen vor 11 Jahren damit an\, auf den Straßen von Buenos Aires
  zu spielen. Mit ihrer Bluegrass-Instrumentierung und einer alternativen A
 ttitude\, präsentiert die Band ihren Folk-Punk seit her non-stop überall
  auf der Welt. Ihr Set besteht vornehmlich aus ihren eigenen Kompositionen
 \, aber sie haben auch einige alte klassische Volkslieder im Programm. Liv
 e sind "Angry Zeta &amp\; The Hillbullys"eine Bank für Adrenalin geladene
  Shows mit Kontrabass\, Banjo\, Gitarre\, Violine und Waschbrett\, Country
 punk- und Streetgrass-Musik.\n\nEinlass 20:00\nBeginn 21:15\nEintritt frei
 !
ATTACH;FMTTYPE=image/jpeg:https://punkt-linden.de/wp-content/uploads/2026/
 04/Angry-Zeta-2-.jpg
CATEGORIES:Musik, Konzert
LOCATION:Café Glocksee\, Glockseestraße 35\, Hannover\, 30169\, Deutschla
 nd
GEO:52.37186;9.720571
X-APPLE-STRUCTURED-LOCATION;VALUE=URI;X-ADDRESS=Glockseestraße 35\, Hannov
 er\, 30169\, Deutschland;X-APPLE-RADIUS=100;X-TITLE=Café Glocksee:geo:52.
 37186,9.720571
END:VEVENT
BEGIN:VTIMEZONE
TZID:Europe/Berlin
X-LIC-LOCATION:Europe/Berlin
BEGIN:DAYLIGHT
DTSTART:20260329T030000
TZOFFSETFROM:+0100
TZOFFSETTO:+0200
TZNAME:CEST
END:DAYLIGHT
END:VTIMEZONE
END:VCALENDAR