BEGIN:VCALENDAR
VERSION:2.0
PRODID:-//wp-events-plugin.com//5.99912//EN
TZID:Europe/Berlin
X-WR-TIMEZONE:Europe/Berlin
BEGIN:VEVENT
UID:59798@punkt-linden.de
DTSTART;TZID=Europe/Berlin:20250726T180000
DTEND;TZID=Europe/Berlin:20250726T235900
DTSTAMP:20250613T065737Z
URL:https://punkt-linden.de/termine/river-jams-auf-und-mit-der-zukunst-am-
 peter-fechter-ufer-2/
SUMMARY:“River-Jams” auf und mit der “ZuKunst” am Peter Fechter-Ufe
 r
DESCRIPTION:City of Music Hannover\n\nSeit 2022 ist der selbstgebaute Motor
 katamaran „ZuKunst“ der Makers For Humanity e.V. auf Hannovers innerst
 ädtischer Leine und Ihme unterwegs. Am Schiffsanleger des Heizkraftwerk L
 inden finden auf dem „Kultur+Zukunftsboot“ Communityangebote in den Be
 reichen Bildung\, Umwelt\, Integration und Kultur statt. Sonntags kann man
  auf den „Kulturbootsfahrten“ mit dem begehbaren Kunstwerk Hannover un
 d seine Flüsse von der Wasserseite aus erleben\, dazu gibt es ausgewählt
 e Sonderveranstaltungen an Bord und an den Ihme-Ufern. Besondere Beliebthe
 it erfreut sich die wöchentliche „ZuKunst-Jam- Session“\, bei der Mus
 iker*innen ihre Instrumente und Repertoires zu aussergewöhnlichen Musiker
 lebnissen zusammenfügen.\n\nAuf dem Vorderdeck oder in der geräumigen Ka
 jüte wird jeweils von 18:00 - 22:00 Uhr gejammt. Auch regelmäßige Singk
 reise (Mantren und Weltenlieder) haben dazu geführt\, dass die „ZuKunst
 “ vielen bereits als Hannovers buntes Musikboot bekannt geworden ist\, d
 as Musik und Gesang über die Flüsse trägt.\n\nProjekt aus der UCoM Sond
 erförderung.
CATEGORIES:Musik, Konzert,Party, Feiern
LOCATION:Ihme/Leine\, Am Ihmeufer\, Hannover\, 30449\, Deutschland
GEO:52.368732;9.720475
X-APPLE-STRUCTURED-LOCATION;VALUE=URI;X-ADDRESS=Am Ihmeufer\, Hannover\, 30
 449\, Deutschland;X-APPLE-RADIUS=100;X-TITLE=Ihme/Leine:geo:52.368732,9.72
 0475
END:VEVENT
BEGIN:VTIMEZONE
TZID:Europe/Berlin
X-LIC-LOCATION:Europe/Berlin
BEGIN:DAYLIGHT
DTSTART:20250330T030000
TZOFFSETFROM:+0100
TZOFFSETTO:+0200
TZNAME:CEST
END:DAYLIGHT
END:VTIMEZONE
END:VCALENDAR