BEGIN:VCALENDAR
VERSION:2.0
PRODID:-//wp-events-plugin.com//5.99912//EN
TZID:Europe/Berlin
X-WR-TIMEZONE:Europe/Berlin
BEGIN:VEVENT
UID:61125@punkt-linden.de
DTSTART;TZID=Europe/Berlin:20251216T180000
DTEND;TZID=Europe/Berlin:20251216T235900
DTSTAMP:20251104T150403Z
URL:https://punkt-linden.de/termine/rausch-und-risiko-digitale-veranstaltu
 ngsreihe-zu-legalen-suchtmitteln-3/
SUMMARY:Rausch und Risiko – digitale Veranstaltungsreihe zu legalen Sucht
 mitteln
DESCRIPTION:Lachgas\, Alkohol\, Nikotin oder Energy-Drinks – mit diesen s
 cheinbar harmlosen legalen Suchtmitteln kommen Jugendliche in ihrem Alltag
  in Berührung. Sei es die E-Zigarette auf dem Schulweg\, der „Vodka-E
 “ zum Wachwerden beim Feiern oder der Joint beim Chillen mit Freunden. 
 Eine gemeinsame Initiative des Jugendschutzes der Landeshauptstadt und der
  Region Hannover sowie der Städte Langenhagen und Lehrte rückt das Thema
  der legalen Suchtmittel in den Fokus.\n\nMit der digitalen Veranstaltungs
 reihe „Wissen was läuft – Rausch und Risiko“ informieren die Partne
 r*innen in den kommenden Monaten Erziehende\, Bezugspersonen sowie weitere
  Interessierte über verschiedene legale Suchtmittel und die mit ihrem Kon
 sum verbundenen Risiken. Im Rahmen von sechs Online-Veranstaltungen werden
  fundierte Informationen zu unterschiedlichen Substanzen vermittelt\, Einb
 licke in die Lebenswelten junger Menschen gegeben und praxisnahe Tipps fü
 r die Gespräche mit Kindern und Jugendlichen über Suchtmittel angeboten.
  Nach jedem Vortrag haben Teilnehmende die Möglichkeit\, mit den Expert*i
 nnen ins Gespräch zu kommen.\n\nDie Veranstaltungsreihe umfasst insgesamt
  sechs Online-Termine\, jeweils dienstags von 18 bis circa 19:30 Uhr. Der 
 Zugang ist per Computer\, Tablet oder Smartphone möglich. Die Teilnahme i
 st kostenfrei.\n\nAnmeldung und weitere Informationen unter www.team-jugen
 darbeit.de\n\nDas Programm:\n\n 	4. November 2025 – „Lachgas“ Jenny 
 Lehnert-Ott / Prisma gGmbH Hannover\n 	 November 2025 – „Cannabis / Sy
 nthetische Cannabinoide“ Bernd Renger / Prisma gGmbH Hannover und Christ
 ian Krüger / Drobs Hannover\n 	16. Dezember 2025 – „Snus\, Kautabak u
 nd Schnupftabak“ Dominika Lachowicz / Landesstelle Jugendschutz Niedersa
 chsen\n 	20. Januar 2026 – „Rauchen – Vapes\, Shisha\, Tabak\, Verda
 mpfer“ Finja Kreißl / Prisma gGmbH Hannover\n 	17. Februar 2026 – „
 Alkohol &amp\; Energy Drinks“ Dr. med. Felix Oberhoffer / München Klini
 k gGmbH und Andrea Beltrop / Niedersächsische Landesstelle für Suchtfrag
 en (NLS)\n 	24. März 2026 – „Kommunikation und Prävention“ Theresa
  Korte / Prisma gGmbH Hannover und Christian Krüger / Drobs Hannover\n
ATTACH;FMTTYPE=image/jpeg:https://punkt-linden.de/wp-content/uploads/2021/
 01/live-stream.jpg
CATEGORIES:Vortrag, Führung, Workshop
END:VEVENT
BEGIN:VTIMEZONE
TZID:Europe/Berlin
X-LIC-LOCATION:Europe/Berlin
BEGIN:STANDARD
DTSTART:20251026T020000
TZOFFSETFROM:+0200
TZOFFSETTO:+0100
TZNAME:CET
END:STANDARD
END:VTIMEZONE
END:VCALENDAR