BEGIN:VCALENDAR
VERSION:2.0
PRODID:-//wp-events-plugin.com//5.99912//EN
TZID:Europe/Berlin
X-WR-TIMEZONE:Europe/Berlin
BEGIN:VEVENT
UID:59622@punkt-linden.de
DTSTART;TZID=Europe/Berlin:20250619T200000
DTEND;TZID=Europe/Berlin:20250619T200000
DTSTAMP:20250527T160006Z
URL:https://punkt-linden.de/termine/press-club-punk-australien/
SUMMARY:PRESS CLUB (Punk / Australien)
DESCRIPTION:PRESS CLUB... nach fünf Tourneen durch Großbritannien und Eur
 opa und einer Tournee durch Australien\, bei der sie in allen Bundesstaate
 n und Territorien des Landes gespielt haben\, hat sich die geballte Gig-Fi
 tness dieser Punkband aus Naarm und Melbourne auch im Studio bemerkbar gem
 acht. Press Club s neuestes Album To All The Ones That I Love ist zweifels
 ohne ihr bisher bestes Album. Das vierte Album von Press Club\, das die Pr
 oduktion im Vergleich zu ihren vorherigen Veröffentlichungen verbessert h
 at\, ist vielfältig und ausgereift und bietet eine abwechslungsreiche Kla
 nglandschaft. To All The Ones That I Love ist dynamisch und eindringlich u
 nd verfügt über einen massiven\, strukturierten Sound. Themen wie Selbst
 beobachtung\, Wachstum\, Veränderung und die Nutzung der Kraft des Selbst
 bewusstseins durchziehen dieses Album.Mit dabei sind DZ DEATHRAYS&nbsp\;Ti
 ckets: tba Hier Tickets bestellen
CATEGORIES:Musik, Konzert
LOCATION:Béi Chéz Heinz\, Liepmannstraße 7b\, Hannover\, 30453\, Deutsch
 land
GEO:52.37195;9.69636
X-APPLE-STRUCTURED-LOCATION;VALUE=URI;X-ADDRESS=Liepmannstraße 7b\, Hannov
 er\, 30453\, Deutschland;X-APPLE-RADIUS=100;X-TITLE=Béi Chéz Heinz:geo:5
 2.37195,9.69636
END:VEVENT
BEGIN:VTIMEZONE
TZID:Europe/Berlin
X-LIC-LOCATION:Europe/Berlin
BEGIN:DAYLIGHT
DTSTART:20250330T030000
TZOFFSETFROM:+0100
TZOFFSETTO:+0200
TZNAME:CEST
END:DAYLIGHT
END:VTIMEZONE
END:VCALENDAR