BEGIN:VCALENDAR
VERSION:2.0
PRODID:-//wp-events-plugin.com//5.99912//EN
TZID:Europe/Berlin
X-WR-TIMEZONE:Europe/Berlin
BEGIN:VEVENT
UID:59723@punkt-linden.de
DTSTART;TZID=Europe/Berlin:20250616T180000
DTEND;TZID=Europe/Berlin:20250616T235900
DTSTAMP:20250609T183426Z
URL:https://punkt-linden.de/termine/pilates-mattentraining-im-park/
SUMMARY:Pilates – Mattentraining im Park
DESCRIPTION:Klassisches Pilates-Mattentraining nach Josef Pilates\n\nBringt
  gerne eine Yogamatte (oder noch besser\, eine dickere Fitness-/ Pilatesma
 tte) mit!\n\nTreffpunkt: Volkspark Linden\, nahe Bushaltestelle Sporlederw
 eg\, Linie 100 bzw. 200.\nVeranstalter: SV Linden 07 e.V. und der Nachbars
 chaftskiosk im Sporlederweg 13B 
CATEGORIES:Sport, Spiel
LOCATION:SV 1907 Linden Stadion\, Am Spielfelde 11\, Hannover\, 30449\, Deu
 tschland
GEO:52.36321;9.708256
X-APPLE-STRUCTURED-LOCATION;VALUE=URI;X-ADDRESS=Am Spielfelde 11\, Hannover
 \, 30449\, Deutschland;X-APPLE-RADIUS=100;X-TITLE=SV 1907 Linden Stadion:g
 eo:52.36321,9.708256
END:VEVENT
BEGIN:VTIMEZONE
TZID:Europe/Berlin
X-LIC-LOCATION:Europe/Berlin
BEGIN:DAYLIGHT
DTSTART:20250330T030000
TZOFFSETFROM:+0100
TZOFFSETTO:+0200
TZNAME:CEST
END:DAYLIGHT
END:VTIMEZONE
END:VCALENDAR