BEGIN:VCALENDAR
VERSION:2.0
PRODID:-//wp-events-plugin.com//5.99912//EN
TZID:Europe/Berlin
X-WR-TIMEZONE:Europe/Berlin
BEGIN:VEVENT
UID:62839@punkt-linden.de
DTSTART;TZID=Europe/Berlin:20260530T200000
DTEND;TZID=Europe/Berlin:20260530T235900
DTSTAMP:20260416T192743Z
URL:https://punkt-linden.de/termine/phobia-2/
SUMMARY:PHOBIA
DESCRIPTION:GASTSPIEL von Wiebke Acton &gt\; UK\n\nEine hochrangige Politik
 erin wird zum Ziel grausamer Spottattacken im Internet. Sie hat eine unkon
 trollierbare Angst vor Bananen. Das macht internationale Schlagzeilen. Fü
 r die Leser*innen ist das der Witz der Woche. Für die Politikerin ist die
  Angst real.\n\nWas bedeutet es\, panische Angst zu haben? Wie kann man da
 mit in unserer voyeuristischen Gesellschaft leben? In fragmentarischer Erz
 ählweise verbindet PHOBIA Storytelling\, Tanz und Gesang und begibt sich 
 in das Geflecht skurriler Ängste. Auf Grundlage persönlicher Erfahrungen
  des künstlerischen Teams sowie Gesprächen mit weiteren Betroffenen bele
 uchtet das Stück die oft unterschätzte Angststörung\, den gesellschaftl
 ichen Umgang damit und die mediale Fehlinterpretation. Es zeigt das Ringen
  um Verständnis und Akzeptanz in einer Welt\, in der offengelegte Schwäc
 hen häufig bestraft werden.\n\nPHOBIA ist eine interdisziplinäre Tanz-Th
 eater-Performance\, angetrieben von einer Soundkulisse aus Live-Elektronik
  und akustischen Instrumenten. Laut\, einfühlsam und wunderbar absurd. Er
 stmals in deutscher Sprache.
CATEGORIES:Kleinkunst, Schauspiel
LOCATION:Theater an der Glocksee\, Glockseestraße 35\, Hannover\, 30169\, 
 Deutschland
GEO:52.37186;9.720571
X-APPLE-STRUCTURED-LOCATION;VALUE=URI;X-ADDRESS=Glockseestraße 35\, Hannov
 er\, 30169\, Deutschland;X-APPLE-RADIUS=100;X-TITLE=Theater an der Glockse
 e:geo:52.37186,9.720571
END:VEVENT
BEGIN:VTIMEZONE
TZID:Europe/Berlin
X-LIC-LOCATION:Europe/Berlin
BEGIN:DAYLIGHT
DTSTART:20260329T030000
TZOFFSETFROM:+0100
TZOFFSETTO:+0200
TZNAME:CEST
END:DAYLIGHT
END:VTIMEZONE
END:VCALENDAR