BEGIN:VCALENDAR
VERSION:2.0
PRODID:-//wp-events-plugin.com//5.99912//EN
TZID:Europe/Berlin
X-WR-TIMEZONE:Europe/Berlin
BEGIN:VEVENT
UID:59419@punkt-linden.de
DTSTART;TZID=Europe/Berlin:20250510T100000
DTEND;TZID=Europe/Berlin:20250510T235900
DTSTAMP:20250425T174647Z
URL:https://punkt-linden.de/termine/pflanzenboerse-am-lindener-berg/
SUMMARY:Pflanzenbörse am Lindener Berg
DESCRIPTION:Die Veranstaltung ist jedes Jahr ein Ort sich mit anderen Garte
 n-begeisterten zu treffen und interessante Pflanzen und Samen für den Gar
 ten zu erwerben.\n\nKleingärtnerInnen geben überzählige Jungpflanzen\, 
 viele Tomaten\, Paprika und Chilis\, geteilte Stauden\, kleine Obstgehölz
 e ab. Es gibt einjährige Sommerblumen\, besondere Gemüsekulturen\, wie d
 en Ewiger Kohl und den Guten Heinrich\, besondere Kräutern und Insektenpf
 lanzen. Der Vermehrungsgarten Hannover gibt Saatgut von den Kulturen weite
 r\, die jetzt noch gesät werden können\, wie Bohnen\, Erbsen\, Salate\, 
 Gurken\, Kürbisse und verschiedene Kräuter.\n\nDas Repertoire des Vermeh
 rungsgarten ist groß: Buschbohnen\, Einbohnen\, die besonders üppig wach
 sen und fruchten\, Stangenbohnen in allen Hülsenfarben\, von blau und sch
 lank bis gelb und breit. Bohnen aus dem eigenen Garten - so frisch bekommt
  man sie nie zu kaufen. Gurken und Kürbisse können besser spät direkt g
 esät werden. Die Wurzeln sind empfindlich und vorgezogene Pflanzen haben 
 immer Schwierigkeiten beim Anwachsen.\n\nGurken und Kürbisse können noch
  bis Anfang\, Mitte Juni gesät werden. Wenn der Boden warm ist wachsen si
 e schnell und gesund heran und belohnen mit reicher Ernte. Zu den Saaten g
 ibt es immer auch Informationen zu Anbau und Erhalt. Alle Sorten sind same
 nfest und können selbst vermehrt werden. Der Imker Helmut Reusch informie
 ren über seine Arbeit und gibt Honig ab. Ein kleines Café' ist Ort zum T
 reffen\, Plaudern und Schnabulieren. Kuchenspenden und Kuchenhunger unters
 tützen die Veranstaltung.\n\nRückfragen bitte an Kornelia Stock\, Vermeh
 rungsgarten@htp-tel.de\nwww.vermehrungsgarten.de
CATEGORIES:Markt, Flohmarkt
LOCATION:Vereinsheim Kleingartenverein Linden e. V. (Ernst-Winter-Heim)\, A
 m Lindener Berge 39\, Hannover\, 30449\, Deutschland
GEO:52.361721;9.699294
X-APPLE-STRUCTURED-LOCATION;VALUE=URI;X-ADDRESS=Am Lindener Berge 39\, Hann
 over\, 30449\, Deutschland;X-APPLE-RADIUS=100;X-TITLE=Vereinsheim Kleingar
 tenverein Linden e. V. (Ernst-Winter-Heim):geo:52.361721,9.699294
END:VEVENT
BEGIN:VTIMEZONE
TZID:Europe/Berlin
X-LIC-LOCATION:Europe/Berlin
BEGIN:DAYLIGHT
DTSTART:20250330T030000
TZOFFSETFROM:+0100
TZOFFSETTO:+0200
TZNAME:CEST
END:DAYLIGHT
END:VTIMEZONE
END:VCALENDAR