BEGIN:VCALENDAR
VERSION:2.0
PRODID:-//wp-events-plugin.com//5.99912//EN
TZID:Europe/Berlin
X-WR-TIMEZONE:Europe/Berlin
BEGIN:VEVENT
UID:61902@punkt-linden.de
DTSTART;TZID=Europe/Berlin:20260205T200000
DTEND;TZID=Europe/Berlin:20260205T235900
DTSTAMP:20260127T161126Z
URL:https://punkt-linden.de/termine/peter-trabner-spielt-diogenes-2-0-oder
 -alles-fuer-die-tonne/
SUMMARY:Peter Trabner spielt Diogenes 2.0 oder Alles für die Tonne
DESCRIPTION:Peter Trabner als Diogenes 2.0 oder Alles für die Tonne?\n\nPe
 ter Trabner folgt der Spur des antiken Philosophen und Provokateurs Diogen
 es von Sinope.\n\nEin Schauspieler\, eine Tonne\, große Fragen über unse
 r Leben. Peter Trabner steigt als Diogenes in die Tonne und nimmt uns mit 
 auf eine temporeiche\, witzige und überraschend aktuelle Reise durch unse
 re Konsumgesellschaft.\n\nAber Theater ist eigentlich gar nichts für Dich
 ?\n\nVielleicht ja doch\, denn dieses Stück ist kein klassisches Theater 
 mit einem auswendig gelernten Text - das ist Spontanität pur\, Philosophi
 e mit Humor und eine Gesellschaftskritik\, die unter die Haut geht. Theate
 r bei uns in der Buchhandlung ist ein Abend unter Freunden. Du erlebst Kun
 st hautnah\, mal leise\, mal laut\, mal komisch\, mal ernsthaft und garant
 iert nicht langweilig!\n\nÜberzeugt?\nSuper. Wir freuen uns auf dich!\nUn
 d natürlich auch über unsere große Theater-Stammkundschaft. Fein\, dass
  ihr wieder dabei seid.\n\nUnd noch etwas in eigener Sache.\nZu unseren Ve
 ranstaltungen\, ob Theater oder Lesungen dürft ihr euch immer gerne eigen
 e Getränke mitbringen. Wir schenken im Laden ausschließlich Wein aus\, d
 en ihr für 2\,50 € pro Glas haben könnt.\n\nEinlass: 19:30 Uhr\nBeginn
 : 20:00 Uhr\nEintritt frei/Hut geht rum
ATTACH;FMTTYPE=image/jpeg:https://punkt-linden.de/wp-content/uploads/2026/
 01/4b4c6f45-74fd-4c84-939b-79e632cac67d.jpg
CATEGORIES:Kleinkunst, Schauspiel,Literatur, Lesung
LOCATION:Lindener Buchhandlung\, Limmerstrasse 43\, Hannover\, 30451\, Deut
 schland
GEO:52.373178;9.70782
X-APPLE-STRUCTURED-LOCATION;VALUE=URI;X-ADDRESS=Limmerstrasse 43\, Hannover
 \, 30451\, Deutschland;X-APPLE-RADIUS=100;X-TITLE=Lindener Buchhandlung:ge
 o:52.373178,9.70782
END:VEVENT
BEGIN:VTIMEZONE
TZID:Europe/Berlin
X-LIC-LOCATION:Europe/Berlin
BEGIN:STANDARD
DTSTART:20251026T020000
TZOFFSETFROM:+0200
TZOFFSETTO:+0100
TZNAME:CET
END:STANDARD
END:VTIMEZONE
END:VCALENDAR