BEGIN:VCALENDAR
VERSION:2.0
PRODID:-//wp-events-plugin.com//5.99912//EN
TZID:Europe/Berlin
X-WR-TIMEZONE:Europe/Berlin
BEGIN:VEVENT
UID:62498@punkt-linden.de
DTSTART;TZID=Europe/Berlin:20260515T200000
DTEND;TZID=Europe/Berlin:20260515T200000
DTSTAMP:20260313T170005Z
URL:https://punkt-linden.de/termine/no-sun-rises-black-metal-muenster-nekr
 odeus-black-metal-oesterreich/
SUMMARY:NO SUN RISES (Black Metal / Münster)\, NEKRODEUS (Black Metal / Ö
 sterreich)
DESCRIPTION:No Sun Rises... Hier trifft atmosphärische Kälte auf emotiona
 le Tiefe. Zwischen vernebelten Wäldern und matschigen Gebirgspässen form
 t die Band ein melancholisches Grundgerüst\, auf das immer wieder mit kr
 ächzenden Black-Metal-Riffs gehämmert wird. Grimmige Harmonien und episc
 he Melodien geben sich hier die Klinke in die Hand. Dazu befeuern die beid
 en Sänger*innen die dichte Klanglandschaft mit innerem Konflikt\, Wut und
  Verzweiflung. Nach einer Demo\, dem ersten Album „Ascend/Decay“ und d
 er EP „Dominium Terrae“ formierte sich die Band 2021 neu und veröffen
 tlichte 2023 mit dem zweiten Album „Harmisod“ ihre bisher härtesten u
 nd dunkelsten Songs. Nach mehreren nationalen und internationalen Touren w
 urde das Line-Up der Band durch eine Sängerin erweitert. 2026 präsentier
 en No Sun Rises sowohl Songs von „Harmisod“\, als auch einige neue Son
 gs\, die auf dem kommenden Album zu finden sein werden.\n\nNekrodeus...&nb
 sp\;ist Black Metal auf einem Motorrad\, gekleidet in eine schmutzige Lede
 rjacke\, die mit Crustpunk- und Death-Metal-Aufnähern übersät ist\, wä
 hrend er über die Kruste einer mit Schlamm bedeckten Autobahn rast und se
 ine mit Stacheln besetzte Abrissbirne voller roher und emotionaler Kraft 
 über den brodelnden Abgrund menschlicher Dekadenz schwingt. Jede Platte i
 st ein formwandelndes Festmahl\, eine Kost aus roher Gewalt und launischer
  Atmosphäre\, die den Juckreiz zwischen deinem Reptiliengehirn und deiner
  emotionalen Intelligenz kratzt\, während sie mit ihren eigenen rauen Zä
 hnen zurückbeißt.\n\n&nbsp\;\n&nbsp\;Tickets:  Hier Tickets bestellen
CATEGORIES:Musik, Konzert
LOCATION:Béi Chéz Heinz\, Liepmannstraße 7b\, Hannover\, 30453\, Deutsch
 land
GEO:52.37195;9.69636
X-APPLE-STRUCTURED-LOCATION;VALUE=URI;X-ADDRESS=Liepmannstraße 7b\, Hannov
 er\, 30453\, Deutschland;X-APPLE-RADIUS=100;X-TITLE=Béi Chéz Heinz:geo:5
 2.37195,9.69636
END:VEVENT
BEGIN:VTIMEZONE
TZID:Europe/Berlin
X-LIC-LOCATION:Europe/Berlin
BEGIN:DAYLIGHT
DTSTART:20260329T030000
TZOFFSETFROM:+0100
TZOFFSETTO:+0200
TZNAME:CEST
END:DAYLIGHT
END:VTIMEZONE
END:VCALENDAR