BEGIN:VCALENDAR
VERSION:2.0
PRODID:-//wp-events-plugin.com//5.99912//EN
TZID:Europe/Berlin
X-WR-TIMEZONE:Europe/Berlin
BEGIN:VEVENT
UID:60500@punkt-linden.de
DTSTART;TZID=Europe/Berlin:20251024T230000
DTEND;TZID=Europe/Berlin:20251024T235900
DTSTAMP:20250830T211548Z
URL:https://punkt-linden.de/termine/ndnb-presents-hated/
SUMMARY:NDNB presents HATED
DESCRIPTION:Aus Ungarn servieren wird euch den Neuro-Rave-Experten 𝐇𝐀
 𝐓𝐄𝐃!\n\nHated begegnete dem Drum &amp\; Bass-Genre 2006 zum erste
 n Mal und war schnell von dessen düsteren Beats fasziniert. 2011 begann e
 r als DJ und 2015 mit der Musikproduktion. Heute widmet er sich hauptsäch
 lich dem Neurofunk\, obwohl seine Sets immer noch härtere Tracks beinhalt
 en – und in den frühen Morgenstunden sind Tempi über 200 BPM für ihn 
 keine Seltenheit.\n\nSeine Tracks wurden von mehreren namhaften europäisc
 hen Labels veröffentlicht\, darunter dem niederländischen Blackout Music
 \, wo er im Dezember 2024 mit Brute Force debütierte. Dieser Meilenstein 
 markierte ein neues Kapitel seiner Karriere und festigte seine Präsenz in
  der internationalen Drum &amp\; Bass-Szene. Hated´s Ambition bleibt unve
 rändert: Er möchte sich unter den größten Namen des Genres etablieren 
 und das Publikum mit jedem einzelnen Set begeistern.\n\nHeavy support von 
 𝟑𝐍𝐋𝐈𝐆𝐇𝐓 aus Braunschweig und 𝐒𝐘𝐍𝐀𝐏𝐓
 𝐈𝐊 &amp\; 𝐁𝐋𝐀𝐙𝐄 aus Hamburg! Und natürlich dem 𝐍
 𝐞𝐮𝐫𝐨𝐩𝐡𝐨𝐫𝐢𝐚 Team!\n\n★ 𝕃𝕀ℕ𝔼𝕌
 ℙ ★\n\nHATED (HUN)\n[Blackout / Skamele]\n\n3NLIGHT (BS)\n\nSYNAPTIK &
 amp\; BLAZE (HH)\n\nKR33P (H)\n[Neurophoria]\n\nKEYZ (CE)\n[Neurophoria]\n
 \nKIILLAFISH (HI)\n[Neurophoria]
ATTACH;FMTTYPE=image/jpeg:https://punkt-linden.de/wp-content/uploads/2025/
 08/NDNB1.jpg
CATEGORIES:Party, Feiern
LOCATION:Café Glocksee\, Glockseestraße 35\, Hannover\, 30169\, Deutschla
 nd
GEO:52.37186;9.720571
X-APPLE-STRUCTURED-LOCATION;VALUE=URI;X-ADDRESS=Glockseestraße 35\, Hannov
 er\, 30169\, Deutschland;X-APPLE-RADIUS=100;X-TITLE=Café Glocksee:geo:52.
 37186,9.720571
END:VEVENT
BEGIN:VTIMEZONE
TZID:Europe/Berlin
X-LIC-LOCATION:Europe/Berlin
BEGIN:DAYLIGHT
DTSTART:20250330T030000
TZOFFSETFROM:+0100
TZOFFSETTO:+0200
TZNAME:CEST
END:DAYLIGHT
END:VTIMEZONE
END:VCALENDAR