BEGIN:VCALENDAR
VERSION:2.0
PRODID:-//wp-events-plugin.com//5.99912//EN
TZID:Europe/Berlin
X-WR-TIMEZONE:Europe/Berlin
BEGIN:VEVENT
UID:60492@punkt-linden.de
DTSTART;TZID=Europe/Berlin:20250830T193000
DTEND;TZID=Europe/Berlin:20250830T193000
DTSTAMP:20250829T160004Z
URL:https://punkt-linden.de/termine/metal-riot-2025/
SUMMARY:METAL RIOT 2025
DESCRIPTION:Cockrock Sadistic Petus Pennytration (CSPP) aus Wolfsburg ließ
 en am 14.07.2023 ihr 3. Full-Length-Album via A.D.G. Records von der Leine
 . Das Teil hört auf den Namen "Tales of the Undead" und ist gespickt mit 
 10 Songs voll geiler Riffs\, Melodien und viel Sinn für Groove und Geschw
 indigkeit. Nach dem Debutalbum "Butchered" (2019) sowie dem Nachfolger "Th
 e Path of Rotten Flesh" (2021) verfolgt man den eingeschlagenen Weg konseq
 uent weiter und bietet wieder feinste Old School Death Metal Kost mit dem 
 fettesten Sound der Bandgeschichte. Titel wie "Flesh Cult Apocalypse"\, "T
 ime to Bleed" oder "First Sign of Cannibalism" sprechen eine deutliche Spr
 ache und lassen keine Death Metal Wünsche offen.\nFeeding Zebras… ist e
 ine Melodic Death Metal Band aus dem Süden Deutschlands (Ansbach / Mittel
 franken)\, die 2020 gegründet wurde\, und deren Stil deutlich vom Melodic
  Death Metal und Metalcore der frühen 2000er Jahre geprägt ist. Die erst
 e EP „Of Salvation And Decay“ wurde 2022 veröffentlicht. Seitdem wurd
 en fleißig weitere neue Songs produziert\, um die Bühnen zu erobern und 
 in Brand zu setzen…\nBlack Blood Prophecy aus Bremen liefern bei jedem K
 onzert eine ordentliche Setlist heißester Banger\, gepaart mit einer fett
 en Packung Energie ab\, als wäre es ihr letzter Gig.\nMit Einflüssen unt
 er anderem von Children of Bodom\, Phinehas\, Shadow of Intent und vielen 
 weiteren haben sie 2023 ihr erstes Album geschrieben\, dessen Songs nun na
 ch und nach veröffentlicht werden.\nEine einzigartige Zusammenstellung au
 s brachialen Breakdowns und starken Riffs!\n&nbsp\;\n&nbsp\;Tickets: 19\,-
 €  (2 Euro Rabatt für 30666-Vereinsmitglieder!) Hier Tickets bestellen
CATEGORIES:Musik, Konzert
LOCATION:Béi Chéz Heinz\, Liepmannstraße 7b\, Hannover\, 30453\, Deutsch
 land
GEO:52.37195;9.69636
X-APPLE-STRUCTURED-LOCATION;VALUE=URI;X-ADDRESS=Liepmannstraße 7b\, Hannov
 er\, 30453\, Deutschland;X-APPLE-RADIUS=100;X-TITLE=Béi Chéz Heinz:geo:5
 2.37195,9.69636
END:VEVENT
BEGIN:VTIMEZONE
TZID:Europe/Berlin
X-LIC-LOCATION:Europe/Berlin
BEGIN:DAYLIGHT
DTSTART:20250330T030000
TZOFFSETFROM:+0100
TZOFFSETTO:+0200
TZNAME:CEST
END:DAYLIGHT
END:VTIMEZONE
END:VCALENDAR