BEGIN:VCALENDAR
VERSION:2.0
PRODID:-//wp-events-plugin.com//5.99912//EN
TZID:Europe/Berlin
X-WR-TIMEZONE:Europe/Berlin
BEGIN:VEVENT
UID:60964@punkt-linden.de
DTSTART;TZID=Europe/Berlin:20251101T180000
DTEND;TZID=Europe/Berlin:20251101T235900
DTSTAMP:20251016T124148Z
URL:https://punkt-linden.de/termine/marina-baranova/
SUMMARY:Marina Baranova
DESCRIPTION:In diesem Abendprogramm verschmelzen persönliche Erinnerungen\
 , musikalische Vielschichtigkeit und eine tiefe Sehnsucht nach Harmonie zu
  einem bewegenden Klavierabend\, der weit über das Übliche hinausgeht 
 – und der in der dunklen Jahreszeit Licht und Hoffnung schenken möchte.
 \n\nDie Pianistin und Komponistin Marina Baranova setzt sich mit in ihren 
 Alben "White Letters" und "Stars of Mendelssohn" mit ihren jüdisch-ukrain
 ischen Wurzeln auseinander und baut Brücken zur klassisch geprägten Musi
 ktradition des europäischen Abendlandes.\n\n"Ein bewegender Klavierabend\
 , der über das übliche hinausgeht"\, so die Komponistin selbst.\n\nEintr
 itt frei - Spenden erbeten
ATTACH;FMTTYPE=image/jpeg:https://punkt-linden.de/wp-content/uploads/2025/
 10/IMG_1286.webp
CATEGORIES:Ausstellung,Kirche, Religion,Musik, Konzert
LOCATION:St. Martinskirche\, Kirchstraße 19\, Hannover\, 30449\, Deutschla
 nd
GEO:52.364767;9.710622
X-APPLE-STRUCTURED-LOCATION;VALUE=URI;X-ADDRESS=Kirchstraße 19\, Hannover\
 , 30449\, Deutschland;X-APPLE-RADIUS=100;X-TITLE=St. Martinskirche:geo:52.
 364767,9.710622
END:VEVENT
BEGIN:VTIMEZONE
TZID:Europe/Berlin
X-LIC-LOCATION:Europe/Berlin
BEGIN:STANDARD
DTSTART:20251026T020000
TZOFFSETFROM:+0200
TZOFFSETTO:+0100
TZNAME:CET
END:STANDARD
END:VTIMEZONE
END:VCALENDAR