BEGIN:VCALENDAR
VERSION:2.0
PRODID:-//wp-events-plugin.com//5.99912//EN
TZID:Europe/Berlin
X-WR-TIMEZONE:Europe/Berlin
BEGIN:VEVENT
UID:61888@punkt-linden.de
DTSTART;TZID=Europe/Berlin:20260206T200000
DTEND;TZID=Europe/Berlin:20260206T235900
DTSTAMP:20260126T203319Z
URL:https://punkt-linden.de/termine/maria-iskariot/
SUMMARY:MARIA ISKARIOT
DESCRIPTION:Maria Iskariot still has no answers to your questions. Yet they
  extend a wet hand to anyone who has rehearsed the steps to the Waltz Of T
 he Hopeless. The four-headed dog has grown into a tender monster that cele
 brates friendship\, washes contempt\, and underscores Life. They delight t
 he world with a brilliant imperfection as a joyful protest against the age
 -old evil.\n\nOn October 31\, they’ll release their debut album\, Wereld
 waan\, already hailed by critics as a timeless cult classic that holds tod
 ay’s delusions up to the light of eternity.\n\nThe album will be release
 d by Burning Fik\, the Dutch label run by Faberyayo (De Jeugd van Tegenwoo
 rdig) and Abel (Hang Youth). The album will also be released in Spain by M
 ontgri\, cementing their presence in the trans-european punk scene.\n\nAft
 er more than 180 shows in 2024 -2025\, they are now deep in preparations f
 or a release tour in 2026\, hitting Belgium\, the Netherlands\, Germany\, 
 Spain\, and France!\n\nPRESENTED BY VISIONS\, OX FANZINE\, LIVEGIGS.DE\, B
 ANDUP
ATTACH;FMTTYPE=image/jpeg:https://punkt-linden.de/wp-content/uploads/2026/
 01/Maria-Iskariot-horizontal-1-c-Tina-Lewis-Herbots-scaled-1.jpg
CATEGORIES:Musik, Konzert
LOCATION:Café Glocksee\, Glockseestraße 35\, Hannover\, 30169\, Deutschla
 nd
GEO:52.37186;9.720571
X-APPLE-STRUCTURED-LOCATION;VALUE=URI;X-ADDRESS=Glockseestraße 35\, Hannov
 er\, 30169\, Deutschland;X-APPLE-RADIUS=100;X-TITLE=Café Glocksee:geo:52.
 37186,9.720571
END:VEVENT
BEGIN:VTIMEZONE
TZID:Europe/Berlin
X-LIC-LOCATION:Europe/Berlin
BEGIN:STANDARD
DTSTART:20251026T020000
TZOFFSETFROM:+0200
TZOFFSETTO:+0100
TZNAME:CET
END:STANDARD
END:VTIMEZONE
END:VCALENDAR