BEGIN:VCALENDAR
VERSION:2.0
PRODID:-//wp-events-plugin.com//5.99912//EN
TZID:Europe/Berlin
X-WR-TIMEZONE:Europe/Berlin
BEGIN:VEVENT
UID:61523@punkt-linden.de
DTSTART;TZID=Europe/Berlin:20251227T100000
DTEND;TZID=Europe/Berlin:20251227T235900
DTSTAMP:20251218T152250Z
URL:https://punkt-linden.de/termine/local-archive-v2/
SUMMARY:Local Archive V2
DESCRIPTION:Ausstellung analoger Fotografie von verschiedenen Künstlern\n\
 nAusstellung mit Elias Böhm\, Kevin Hamidov und Freunden.
CATEGORIES:Ausstellung
LOCATION:Freizeitheim Linden\, Windheimstraße 4\, Hannover\, Niedersachsen
 \, 30451\, Deutschland
GEO:52.375006;9.700013
X-APPLE-STRUCTURED-LOCATION;VALUE=URI;X-ADDRESS=Windheimstraße 4\, Hannove
 r\, Niedersachsen\, 30451\, Deutschland;X-APPLE-RADIUS=100;X-TITLE=Freizei
 theim Linden:geo:52.375006,9.700013
END:VEVENT
BEGIN:VTIMEZONE
TZID:Europe/Berlin
X-LIC-LOCATION:Europe/Berlin
BEGIN:STANDARD
DTSTART:20251026T020000
TZOFFSETFROM:+0200
TZOFFSETTO:+0100
TZNAME:CET
END:STANDARD
END:VTIMEZONE
END:VCALENDAR