BEGIN:VCALENDAR
VERSION:2.0
PRODID:-//wp-events-plugin.com//5.99912//EN
TZID:Europe/Berlin
X-WR-TIMEZONE:Europe/Berlin
BEGIN:VEVENT
UID:60426@punkt-linden.de
DTSTART;TZID=Europe/Berlin:20250831T120000
DTEND;TZID=Europe/Berlin:20250831T235900
DTSTAMP:20250822T133957Z
URL:https://punkt-linden.de/termine/lindener-schuetzen-und-volksfest-6/
SUMMARY:Lindener Schützen- und Volksfest
DESCRIPTION:Das kultige Lindener Schützenfest findet wieder in der Zeit vo
 m 29.08.2025 bis zum 31.08.2025 auf dem Festplatz „Am Küchengarten" im 
 Herzen von Linden statt.
CATEGORIES:Essen, Trinken,Party, Feiern
LOCATION:Küchengarten\, Am Küchengarten\, Hannover\, 30449\, Deutschland
GEO:52.370748;9.715717
X-APPLE-STRUCTURED-LOCATION;VALUE=URI;X-ADDRESS=Am Küchengarten\, Hannover
 \, 30449\, Deutschland;X-APPLE-RADIUS=100;X-TITLE=Küchengarten:geo:52.370
 748,9.715717
END:VEVENT
BEGIN:VTIMEZONE
TZID:Europe/Berlin
X-LIC-LOCATION:Europe/Berlin
BEGIN:DAYLIGHT
DTSTART:20250330T030000
TZOFFSETFROM:+0100
TZOFFSETTO:+0200
TZNAME:CEST
END:DAYLIGHT
END:VTIMEZONE
END:VCALENDAR