BEGIN:VCALENDAR
VERSION:2.0
PRODID:-//wp-events-plugin.com//5.99912//EN
TZID:Europe/Berlin
X-WR-TIMEZONE:Europe/Berlin
BEGIN:VEVENT
UID:59519@punkt-linden.de
DTSTART;TZID=Europe/Berlin:20250531T150000
DTEND;TZID=Europe/Berlin:20250531T235900
DTSTAMP:20250514T140716Z
URL:https://punkt-linden.de/termine/linden-mitte-praechtige-villen-ueppige
 s-gruen-4/
SUMMARY:Linden-Mitte: Prächtige Villen - Üppiges Grün
DESCRIPTION:Stattreisen-Hannover\n\nEin Stadtteil mit viel Charme\nWenn von
  großzügigen Parkanlagen\, gründerzeitlichen Häusern\, lauschigen Plä
 tzen und einer denkmalgeschützten Straße die Rede ist\, denkt kaum jeman
 d an Linden. Wir zeigen Ihnen den besonderen Charme dieses Stadtteils.\n\n
 Treffpunkt: Lindener Marktplatz\, Nachtwächterbrunnen\nEndpunkt: Martinsk
 irche\, Brauhofstraße
CATEGORIES:Vortrag, Führung, Workshop
LOCATION:Lindener Marktplatz\, Linden-Mitte\, Hannover\, 30449\, Deutschlan
 d
GEO:52.359621;9.713471
X-APPLE-STRUCTURED-LOCATION;VALUE=URI;X-ADDRESS=Linden-Mitte\, Hannover\, 3
 0449\, Deutschland;X-APPLE-RADIUS=100;X-TITLE=Lindener Marktplatz:geo:52.3
 59621,9.713471
END:VEVENT
BEGIN:VTIMEZONE
TZID:Europe/Berlin
X-LIC-LOCATION:Europe/Berlin
BEGIN:DAYLIGHT
DTSTART:20250330T030000
TZOFFSETFROM:+0100
TZOFFSETTO:+0200
TZNAME:CEST
END:DAYLIGHT
END:VTIMEZONE
END:VCALENDAR