BEGIN:VCALENDAR
VERSION:2.0
PRODID:-//wp-events-plugin.com//5.99912//EN
TZID:Europe/Berlin
X-WR-TIMEZONE:Europe/Berlin
BEGIN:VEVENT
UID:62553@punkt-linden.de
DTSTART;TZID=Europe/Berlin:20260424T190000
DTEND;TZID=Europe/Berlin:20260424T235900
DTSTAMP:20260323T120339Z
URL:https://punkt-linden.de/termine/limmer-music-talk-in-the-round/
SUMMARY:Limmer Music &amp\; Talk in the Round
DESCRIPTION:In gemütlicher Wohnzimmeratmosphäre treffen Caro &amp\; Thoma
 s auf die Sängerin\, Songwriterin und Chorleiterin Juliette Jacobsen\, di
 e Sängerin\, Pianistin und Ensembleleiterin Agnes Hapsari und den Musiker
 \, Multiinstrumentalisten und Musik Produzenten Nic Knoll.\n\nEs wird live
  gespielt und wir werden etwas über die Menschen hinter der Musik erfahre
 n. Wir sind gespannt\, was sich an dem Abend spontan ergibt\, an dem auch 
 die Besucher*innen wieder eingeladen sind sich zu beteiligen. Kommt in den
  Kulturtreff Kastanienhof! Er ist Kult!!!\n\nSpenden erbeten\, ein Hut geh
 t rum.
CATEGORIES:Musik, Konzert
LOCATION:Kulturtreff Kastanienhof\, Harenberger Straße 29\, Hannover\, 304
 53\, Deutschland
GEO:52.375573;9.686165
X-APPLE-STRUCTURED-LOCATION;VALUE=URI;X-ADDRESS=Harenberger Straße 29\, Ha
 nnover\, 30453\, Deutschland;X-APPLE-RADIUS=100;X-TITLE=Kulturtreff Kastan
 ienhof:geo:52.375573,9.686165
END:VEVENT
BEGIN:VTIMEZONE
TZID:Europe/Berlin
X-LIC-LOCATION:Europe/Berlin
BEGIN:DAYLIGHT
DTSTART:20260329T030000
TZOFFSETFROM:+0100
TZOFFSETTO:+0200
TZNAME:CEST
END:DAYLIGHT
END:VTIMEZONE
END:VCALENDAR