BEGIN:VCALENDAR
VERSION:2.0
PRODID:-//wp-events-plugin.com//5.99912//EN
TZID:Europe/Berlin
X-WR-TIMEZONE:Europe/Berlin
BEGIN:VEVENT
UID:60674@punkt-linden.de
DTSTART;TZID=Europe/Berlin:20251102T180000
DTEND;TZID=Europe/Berlin:20251102T235900
DTSTAMP:20250916T114259Z
URL:https://punkt-linden.de/termine/lesung-die-erde-ist-ein-wirrer-ort/
SUMMARY:Lesung: „Die Erde ist ein wirrer Ort“
DESCRIPTION:Wolfgang Uster dichtet und schreibt Prosa seit 74 Jahren. Sein 
 erstes Reimgedicht nach der Geburt „Ma-ma“ wird seitdem jährlich erg
 änzt durch eine Vielzahl von Texten und Publikationen bis hin zu\n„Die 
 Erde ist ein wirrer Ort / kaum ist man da\, muss man schon wieder fort…
 “\nUster präsentiert seltsame\, satirische\, mit wilden Wirbeln durchzo
 gene Kurzprosa\naus seinen Veröffentlichungen des letzten Jahrzehnts\, er
 gänzt durch neuere Texte\, umrahmt von skurriler Lyrik und komischen Gedi
 chten aus der Feder des inneren Clowns.\nMusikalisch wird der Abend eingeh
 üllt mit Klängen der Violine\, Gitarren\, Perkussion aus dem künstleris
 chen Fundus von Lilly Albers\, Emil und Wolfgang Uster.
ATTACH;FMTTYPE=image/jpeg:https://punkt-linden.de/wp-content/uploads/2025/
 09/kuechengartenpavillon-2.png
CATEGORIES:Literatur, Lesung
LOCATION:Küchengartenpavillon\, Am Lindener Berge 44\, Hannover\, Niedersa
 chsen\, 30449\, Deutschland
GEO:52.362432;9.703512
X-APPLE-STRUCTURED-LOCATION;VALUE=URI;X-ADDRESS=Am Lindener Berge 44\, Hann
 over\, Niedersachsen\, 30449\, Deutschland;X-APPLE-RADIUS=100;X-TITLE=Küc
 hengartenpavillon:geo:52.362432,9.703512
END:VEVENT
BEGIN:VTIMEZONE
TZID:Europe/Berlin
X-LIC-LOCATION:Europe/Berlin
BEGIN:STANDARD
DTSTART:20251026T020000
TZOFFSETFROM:+0200
TZOFFSETTO:+0100
TZNAME:CET
END:STANDARD
END:VTIMEZONE
END:VCALENDAR