BEGIN:VCALENDAR
VERSION:2.0
PRODID:-//wp-events-plugin.com//5.99912//EN
TZID:Europe/Berlin
X-WR-TIMEZONE:Europe/Berlin
BEGIN:VEVENT
UID:60832@punkt-linden.de
DTSTART;TZID=Europe/Berlin:20251129T190000
DTEND;TZID=Europe/Berlin:20251129T235900
DTSTAMP:20251001T171952Z
URL:https://punkt-linden.de/termine/lange-sauna-nacht-5/
SUMMARY:Lange Sauna-Nacht
DESCRIPTION:Der Förderverein Fössebad lädt ein zur Langen Sauna-Nacht im
  Fössebad.\n\n19 - 24 Uhr\nStündlicher Aroma-Aufguss mit Wedeln und Absc
 hlag\, Getränken (Wasser / Tee / Kaffee)\, Obst zum Naschen / Feuerschale
  im Saunagarten\n\nEintrittskarten an der Kasse für den speziellen Termin
  bitte rechtzeitig vorher kaufen. Maximale Teilnehmerzahl: 20 Personen
ATTACH;FMTTYPE=image/jpeg:https://punkt-linden.de/wp-content/uploads/2025/
 10/Feuerschale-1.jpg
CATEGORIES:Sonstiges
LOCATION:Fössebad\, Liepmannstraße 7b\, Hannover\, 30453\, Deutschland
GEO:52.37195;9.69636
X-APPLE-STRUCTURED-LOCATION;VALUE=URI;X-ADDRESS=Liepmannstraße 7b\, Hannov
 er\, 30453\, Deutschland;X-APPLE-RADIUS=100;X-TITLE=Fössebad:geo:52.37195
 ,9.69636
END:VEVENT
BEGIN:VTIMEZONE
TZID:Europe/Berlin
X-LIC-LOCATION:Europe/Berlin
BEGIN:STANDARD
DTSTART:20251026T020000
TZOFFSETFROM:+0200
TZOFFSETTO:+0100
TZNAME:CET
END:STANDARD
END:VTIMEZONE
END:VCALENDAR