BEGIN:VCALENDAR
VERSION:2.0
PRODID:-//wp-events-plugin.com//5.99912//EN
TZID:Europe/Berlin
X-WR-TIMEZONE:Europe/Berlin
BEGIN:VEVENT
UID:60974@punkt-linden.de
DTSTART;TZID=Europe/Berlin:20251129T170000
DTEND;TZID=Europe/Berlin:20251129T235900
DTSTAMP:20251117T165711Z
URL:https://punkt-linden.de/termine/kurzfilmwanderung-a-wall-is-a-screen-e
 uropean-stories-for-families/
SUMMARY:Kurzfilmwanderung „A Wall is a Screen: European Stories for Famil
 ies“
DESCRIPTION:Freut euch auf eine ganz besondere Veranstaltung des Europäisc
 hen Informationszentrum (EIZ) Niedersachsen – die Kurzfilmwanderung „A
  Wall is a Screen: European Stories for Families“\, präsentiert vom bek
 annten Künstlerkollektiv „A Wall is a Screen“.\n\nGemeinsam feiern wi
 r die Vielfalt Europas – direkt auf der Straße! Die Hauswände in Hanno
 ver werden zu großen Leinwänden\, auf denen spannende\, lustige und ber
 ührende Kurzfilme für Klein und Groß aus ganz Europa gezeigt werden. Be
 i einem abendlichen Spaziergang könnt ihr die Filme entdecken\, lachen\, 
 nachdenken und staunen – ein echtes kulturelles Abenteuer für die ganze
  Familie!\n\nTermin: 29.11.2025\nStart: 17:00 Uhr\, Dauer: Ca. 60 Min.\nSt
 artort: Durchgang Pfarrlandstraße 5 (neben der Begegnungsstätte Pfarrlan
 dstraße)\nEintritt: kostenlos\nAnmeldung: nicht notwendig
ATTACH;FMTTYPE=image/jpeg:https://punkt-linden.de/wp-content/uploads/2025/
 10/Foto-cawias-6.jpg
CATEGORIES:Für Kinder,Kino, Film
LOCATION:Begegnungsstätte Pfarrlandstraße\, Pfarrlandstraße 3\, Hannover
 \, 30451\, Deutschland
X-APPLE-STRUCTURED-LOCATION;VALUE=URI;X-ADDRESS=Pfarrlandstraße 3\, Hannov
 er\, 30451\, Deutschland;X-APPLE-RADIUS=100;X-TITLE=Begegnungsstätte Pfar
 rlandstraße:geo:0,0
END:VEVENT
BEGIN:VTIMEZONE
TZID:Europe/Berlin
X-LIC-LOCATION:Europe/Berlin
BEGIN:STANDARD
DTSTART:20251026T020000
TZOFFSETFROM:+0200
TZOFFSETTO:+0100
TZNAME:CET
END:STANDARD
END:VTIMEZONE
END:VCALENDAR